BEGIN:VCALENDAR
VERSION:2.0
PRODID:-//Sociale Kalender - ECPv6.2.9//NONSGML v1.0//EN
CALSCALE:GREGORIAN
METHOD:PUBLISH
X-ORIGINAL-URL:https://www.socialekalender.be
X-WR-CALDESC:Evenementen voor Sociale Kalender
REFRESH-INTERVAL;VALUE=DURATION:PT1H
X-Robots-Tag:noindex
X-PUBLISHED-TTL:PT1H
BEGIN:VTIMEZONE
TZID:Europe/Brussels
BEGIN:DAYLIGHT
TZOFFSETFROM:+0100
TZOFFSETTO:+0200
TZNAME:CEST
DTSTART:20210328T010000
END:DAYLIGHT
BEGIN:STANDARD
TZOFFSETFROM:+0200
TZOFFSETTO:+0100
TZNAME:CET
DTSTART:20211031T010000
END:STANDARD
END:VTIMEZONE
BEGIN:VEVENT
DTSTART;TZID=Europe/Brussels:20210303T100000
DTEND;TZID=Europe/Brussels:20210303T120000
DTSTAMP:20260422T211431
CREATED:20201004T090902Z
LAST-MODIFIED:20210301T151431Z
UID:4863-1614765600-1614772800@www.socialekalender.be
SUMMARY:Permacultuur in de moestuin (geannuleerd)
DESCRIPTION:Permacultuur is een ontwerpsysteem met als doel om zowel de mens als de natuur op een duurzame manier samen te laten bestaan. Lesgeefster Marleen Massonnet geeft ons praktische tips om met de natuur mee te werken. Deze activiteit is gratis voor leden. Het lidgeld voor een jaar bedraagt € 3.
URL:https://www.socialekalender.be/evenement/permacultuur-in-de-moestuin/
LOCATION:limburg
ATTACH;FMTTYPE=image/jpeg:https://www.socialekalender.be/wp-content/uploads/2020/10/permacultuurtuin.jpg
END:VEVENT
END:VCALENDAR