BEGIN:VCALENDAR
VERSION:2.0
PRODID:-//Sociale Kalender - ECPv6.2.9//NONSGML v1.0//EN
CALSCALE:GREGORIAN
METHOD:PUBLISH
X-WR-CALNAME:Sociale Kalender
X-ORIGINAL-URL:https://www.socialekalender.be
X-WR-CALDESC:Evenementen voor Sociale Kalender
REFRESH-INTERVAL;VALUE=DURATION:PT1H
X-Robots-Tag:noindex
X-PUBLISHED-TTL:PT1H
BEGIN:VTIMEZONE
TZID:Europe/Brussels
BEGIN:DAYLIGHT
TZOFFSETFROM:+0100
TZOFFSETTO:+0200
TZNAME:CEST
DTSTART:20210328T010000
END:DAYLIGHT
BEGIN:STANDARD
TZOFFSETFROM:+0200
TZOFFSETTO:+0100
TZNAME:CET
DTSTART:20211031T010000
END:STANDARD
END:VTIMEZONE
BEGIN:VEVENT
DTSTART;TZID=Europe/Brussels:20210307T160000
DTEND;TZID=Europe/Brussels:20210307T220000
DTSTAMP:20260422T181917
CREATED:20210225T084115Z
LAST-MODIFIED:20210225T084115Z
UID:5235-1615132800-1615154400@www.socialekalender.be
SUMMARY:Internationale vrouwendag
DESCRIPTION:Seksisme en ongelijkheid is een dagelijkse realiteit van vrouwen. COVID-19 stelde dat verder op scherp. De lockdownperiodes hebben het grote belang van vrouwenarbeid in de dagelijkse economie aangetoond: zonder vrouwen zou de wereld helemaal stilgestaan hebben. Over het algemeen zijn inkomsten van vrouwen nog steeds lager dan die van mannen\, en het grootste deel van het huishoudelijk werk wordt door vrouwen gedaan. Mannelijk geweld en femicides zijn alomtegenwoordig. Om dit in aandacht te brengen organiseert Collecti.e.f 8 maars Limburg een boeiend en gezellig online event op de vooravond van de Internationale Vrouwendag. Programma: \n  \n16.00 Interview ‘Joepie\, mijn dochter is een feministe’: Hilde Lieten interviewt Mariet en Ianthe. \n16.45 Webinar ‘Gelijkheid op de arbeidsmarkt’ met Boutina Abrougui (ACV) en Loes Mispoulier (ABVV) – tot 17.15 \n20.00 Film & Nabespreking ‘Feminiem’ met Layla Önlen \n 
URL:https://www.socialekalender.be/evenement/internationale-vrouwendag/
LOCATION:ONLINE
ATTACH;FMTTYPE=image/jpeg:https://www.socialekalender.be/wp-content/uploads/2021/02/vrouwenbeweging.jpg
END:VEVENT
END:VCALENDAR