BEGIN:VCALENDAR
VERSION:2.0
PRODID:-//Sociale Kalender - ECPv6.2.9//NONSGML v1.0//EN
CALSCALE:GREGORIAN
METHOD:PUBLISH
X-WR-CALNAME:Sociale Kalender
X-ORIGINAL-URL:https://www.socialekalender.be
X-WR-CALDESC:Evenementen voor Sociale Kalender
REFRESH-INTERVAL;VALUE=DURATION:PT1H
X-Robots-Tag:noindex
X-PUBLISHED-TTL:PT1H
BEGIN:VTIMEZONE
TZID:Europe/Brussels
BEGIN:DAYLIGHT
TZOFFSETFROM:+0100
TZOFFSETTO:+0200
TZNAME:CEST
DTSTART:20210328T010000
END:DAYLIGHT
BEGIN:STANDARD
TZOFFSETFROM:+0200
TZOFFSETTO:+0100
TZNAME:CET
DTSTART:20211031T010000
END:STANDARD
END:VTIMEZONE
BEGIN:VEVENT
DTSTART;TZID=Europe/Brussels:20210308T173000
DTEND;TZID=Europe/Brussels:20210308T173000
DTSTAMP:20260422T181917
CREATED:20210225T085655Z
LAST-MODIFIED:20210301T151649Z
UID:5241-1615224600-1615224600@www.socialekalender.be
SUMMARY:Vrouwenactiedag
DESCRIPTION:Onder het motto “Als de vrouwen stoppen\, stopt de wereld!” roept het Collecti.e.f 8 maars Limburg op om deel te nemen aan een solidaire actiedag. Covid19 maakte immers nogmaals duidelijk in welke mate vrouwenarbeid en -vrijwilligersinzet een verschil maken. 8 maart wordt een intense dag van strijd en bevrijding\, waarbij iedereen bijdraagt met eigen mogelijkheden\, ervaring\, eisen en verlangens. Het zal een statische actie worden met speeches\, slam poetry en Hind Eljadid. Vergeet uw mondmasker niet en houdt afstand! Om zicht te hebben op het aantal deelnemers en te zorgen dat we het coronaveilig kunnen houden vragen we iedereen om zich in te schrijven via ons e-mail limburg.8maars@gmail.com.
URL:https://www.socialekalender.be/evenement/vrouwenactiedag/
LOCATION:Kolonel Dusartplein\, Kolonel Dusartplein\, Hasselt\, 3500
ATTACH;FMTTYPE=image/jpeg:https://www.socialekalender.be/wp-content/uploads/2021/02/vrouwenbeweging.jpg
END:VEVENT
END:VCALENDAR