BEGIN:VCALENDAR
VERSION:2.0
PRODID:-//Sociale Kalender - ECPv6.2.9//NONSGML v1.0//EN
CALSCALE:GREGORIAN
METHOD:PUBLISH
X-WR-CALNAME:Sociale Kalender
X-ORIGINAL-URL:https://www.socialekalender.be
X-WR-CALDESC:Evenementen voor Sociale Kalender
REFRESH-INTERVAL;VALUE=DURATION:PT1H
X-Robots-Tag:noindex
X-PUBLISHED-TTL:PT1H
BEGIN:VTIMEZONE
TZID:Europe/Brussels
BEGIN:DAYLIGHT
TZOFFSETFROM:+0100
TZOFFSETTO:+0200
TZNAME:CEST
DTSTART:20210328T010000
END:DAYLIGHT
BEGIN:STANDARD
TZOFFSETFROM:+0200
TZOFFSETTO:+0100
TZNAME:CET
DTSTART:20211031T010000
END:STANDARD
END:VTIMEZONE
BEGIN:VEVENT
DTSTART;TZID=Europe/Brussels:20210314T091500
DTEND;TZID=Europe/Brussels:20210314T091500
DTSTAMP:20260422T194952
CREATED:20210213T155821Z
LAST-MODIFIED:20210213T155821Z
UID:5191-1615713300-1615713300@www.socialekalender.be
SUMMARY:Meditatieve natuurwandeling
DESCRIPTION:Elke maand begeleidt Joséé Knoops een meditatieve wandeling in de Duinengordel\, in lijn met de coronavoorschriften. De plaats van samenkomst varieert\, vertrek altijd stipt om 9.30u. Iedereen kan deelnemen na storting van € 8 op rek. BE50 0688 9682 2318.
URL:https://www.socialekalender.be/evenement/meditatieve-natuurwandeling-2/
LOCATION:Parking Sentower\, Leemkuilstraat\, Opglabbeek\, Limburg\, 3660\, België
ATTACH;FMTTYPE=image/jpeg:https://www.socialekalender.be/wp-content/uploads/2021/02/bos-kempen.jpg
END:VEVENT
BEGIN:VEVENT
DTSTART;TZID=Europe/Brussels:20210314T150000
DTEND;TZID=Europe/Brussels:20210314T150000
DTSTAMP:20260422T194952
CREATED:20210208T142222Z
LAST-MODIFIED:20210208T142222Z
UID:5168-1615734000-1615734000@www.socialekalender.be
SUMMARY:Steunactie voor de Klimaatzaak
DESCRIPTION:Via de klimaatzaak hebben vele organisaties en burgers de vier Belgische overheden aangeklaagd wegens een falend klimaatbeleid. Op dinsdag 16 maart gaat deze rechtszaak effectief van start. Op zondag 14 maart zullen er over heel het land in vele gemeenten (coronaproof) kleine evenementen plaatsvinden. “Allemaal advocaat voor het klimaat”\, zo luidt het motto. De mensen gaan op een kruis staan\, in het zwart gekleed en liefst met een zelfgemaakt wit befje.
URL:https://www.socialekalender.be/evenement/steunactie-voor-de-klimaatzaak/
LOCATION:Kolonel Dusartplein\, Kolonel Dusartplein\, Hasselt\, 3500
ATTACH;FMTTYPE=image/jpeg:https://www.socialekalender.be/wp-content/uploads/2021/02/befje.jpg
END:VEVENT
END:VCALENDAR