BEGIN:VCALENDAR
VERSION:2.0
PRODID:-//Sociale Kalender - ECPv6.2.9//NONSGML v1.0//EN
CALSCALE:GREGORIAN
METHOD:PUBLISH
X-WR-CALNAME:Sociale Kalender
X-ORIGINAL-URL:https://www.socialekalender.be
X-WR-CALDESC:Evenementen voor Sociale Kalender
REFRESH-INTERVAL;VALUE=DURATION:PT1H
X-Robots-Tag:noindex
X-PUBLISHED-TTL:PT1H
BEGIN:VTIMEZONE
TZID:Europe/Brussels
BEGIN:DAYLIGHT
TZOFFSETFROM:+0100
TZOFFSETTO:+0200
TZNAME:CEST
DTSTART:20210328T010000
END:DAYLIGHT
BEGIN:STANDARD
TZOFFSETFROM:+0200
TZOFFSETTO:+0100
TZNAME:CET
DTSTART:20211031T010000
END:STANDARD
END:VTIMEZONE
BEGIN:VEVENT
DTSTART;TZID=Europe/Brussels:20210315T110000
DTEND;TZID=Europe/Brussels:20210315T120000
DTSTAMP:20260422T194952
CREATED:20210301T152939Z
LAST-MODIFIED:20210301T152939Z
UID:5260-1615806000-1615809600@www.socialekalender.be
SUMMARY:Rechten voor de natuur?
DESCRIPTION:Ons maatschappelijk model is erg sterk gestoeld op een tweedeling tussen mens en natuur. Ook binnen het recht is dit niet anders. De natuur wordt systematisch benaderd als een rechtsobject. Een voorwerp. Een eigendom. De voorbije decennia is echter een kentering waarneembaar. In Ecuador kent de Grondwet expliciet rechten toe aan de natuur\, terwijl in Nieuw-Zeeland rivieren\, bergen en natuurgebied rechtspersoonlijkheid is toegekend. Ook elders oordelen rechtbanken in die zin\, ook voor bepaalde primaten die gevangen worden gehouden. \nDe natuur wordt op die manier evenzeer een drager van rechten. Toch verloopt die paradigmashift niet zonder slag of stoot. Onderzoeker en jurist Hendrik Schoukens schetst de achtergrond van deze recente evolutie en gaat na welke verwachtingen we hierover mogen koesteren. Webinar op maandag 15 maart. Wachtkamer vanaf 10.45\, start om 11 u tot 12 u. Hier inschrijven. \nAls je inschrijft krijg je ten laatste op 14 maart de link. We zenden de webinar ook Live uit via onze Facebookpagina: https://www.facebook.com/GrootoudersvoorhetKlimaatBe/ .
URL:https://www.socialekalender.be/evenement/rechten-voor-de-natuur/
LOCATION:limburg
ATTACH;FMTTYPE=image/jpeg:https://www.socialekalender.be/wp-content/uploads/2021/03/Hendrik-Schoukens.jpg
END:VEVENT
BEGIN:VEVENT
DTSTART;TZID=Europe/Brussels:20210315T193000
DTEND;TZID=Europe/Brussels:20210315T193000
DTSTAMP:20260422T194952
CREATED:20210225T090219Z
LAST-MODIFIED:20210225T090219Z
UID:5245-1615836600-1615836600@www.socialekalender.be
SUMMARY:Het goede leven: filosofen over levenskunst
DESCRIPTION:Hoe kunnen we zinvol in het leven staan? Het is een actuele vraag\, maar ook een waarover denkers zich al eeuwenlang het hoofd breken. Tijdens deze avonden ligt de nadruk op het samen lezen en interpreteren van filosofische teksten rond dit thema. Van Plato tot Montaigne\, van Nietzsche tot Foucault. Verwacht geen pasklare antwoorden\, wel een waaier aan inzichten en invalshoeken. De sessie begint met een korte historische inleiding en wordt afgesloten met een groepsgesprek. Na inschrijving (activiteiten@vrijzinnigpunt.be) ontvang je een link naar het online platform waar we elkaar treffen (Zoom).
URL:https://www.socialekalender.be/evenement/het-goede-leven-filosofen-over-levenskunst/
LOCATION:ONLINE
ATTACH;FMTTYPE=image/jpeg:https://www.socialekalender.be/wp-content/uploads/2021/02/Socrates.jpg
END:VEVENT
BEGIN:VEVENT
DTSTART;TZID=Europe/Brussels:20210315T193000
DTEND;TZID=Europe/Brussels:20210315T203000
DTSTAMP:20260422T194952
CREATED:20210301T152251Z
LAST-MODIFIED:20210301T152251Z
UID:5256-1615836600-1615840200@www.socialekalender.be
SUMMARY:Infosessie over coöperatief wonen
DESCRIPTION:Wooncoop is betrokken bij het beheer van een 10-tal panden\, waaronder Moos°Herk in Sint-Lambrechts-Herk. De organisatie geeft informatie over wonen in een wooncoöperatie\, een werkmodel van cohousing.
URL:https://www.socialekalender.be/evenement/infosessie-over-cooperatief-wonen/
LOCATION:ONLINE
ATTACH;FMTTYPE=image/png:https://www.socialekalender.be/wp-content/uploads/2021/03/wooncoop.png
END:VEVENT
END:VCALENDAR