BEGIN:VCALENDAR
VERSION:2.0
PRODID:-//Sociale Kalender - ECPv6.2.9//NONSGML v1.0//EN
CALSCALE:GREGORIAN
METHOD:PUBLISH
X-ORIGINAL-URL:https://www.socialekalender.be
X-WR-CALDESC:Evenementen voor Sociale Kalender
REFRESH-INTERVAL;VALUE=DURATION:PT1H
X-Robots-Tag:noindex
X-PUBLISHED-TTL:PT1H
BEGIN:VTIMEZONE
TZID:Europe/Brussels
BEGIN:DAYLIGHT
TZOFFSETFROM:+0100
TZOFFSETTO:+0200
TZNAME:CEST
DTSTART:20210328T010000
END:DAYLIGHT
BEGIN:STANDARD
TZOFFSETFROM:+0200
TZOFFSETTO:+0100
TZNAME:CET
DTSTART:20211031T010000
END:STANDARD
END:VTIMEZONE
BEGIN:VEVENT
DTSTART;TZID=Europe/Brussels:20210317T193000
DTEND;TZID=Europe/Brussels:20210317T193000
DTSTAMP:20260422T194949
CREATED:20210306T110043Z
LAST-MODIFIED:20210306T110043Z
UID:5287-1616009400-1616009400@www.socialekalender.be
SUMMARY:Vredes- en klimaatbeweging in dialoog
DESCRIPTION:In het kader van Belmundo\, dat dit jaar in teken van ‘klimaatrechtvaardigheid’ staat\, organiseren de drie organisaties samen een panel met Ludo De Brabander (Vrede vzw\, op foto) en Lien Vandamme (11.11.11)\, gemodereerd door Marlies Cassier (gasthoogleraar aan de vakgroep Conflict en Ontwikkelingsstudies van de UGent).
URL:https://www.socialekalender.be/evenement/vredes-en-klimaatbeweging-in-dialoog/
LOCATION:ONLINE
ATTACH;FMTTYPE=image/jpeg:https://www.socialekalender.be/wp-content/uploads/2021/03/ludo-de-brabander.jpg
END:VEVENT
BEGIN:VEVENT
DTSTART;TZID=Europe/Brussels:20210317T200000
DTEND;TZID=Europe/Brussels:20210317T200000
DTSTAMP:20260422T194949
CREATED:20210304T070832Z
LAST-MODIFIED:20210304T070832Z
UID:5263-1616011200-1616011200@www.socialekalender.be
SUMMARY:Het armoedeweb
DESCRIPTION:In deze zoomsessie met o.a. Caro Bridt en Kris Dom willen we een licht werpen op de vicieuze cirkel van armoede. We laten mensen in armoede vertellen over hun ervaringen\, experten lichten de achtergrond toe en wij focussen op de strijd tegen armoede.
URL:https://www.socialekalender.be/evenement/het-armoedeweb/
LOCATION:ONLINE
ATTACH;FMTTYPE=image/jpeg:https://www.socialekalender.be/wp-content/uploads/2021/03/armoede.jpg
END:VEVENT
END:VCALENDAR