BEGIN:VCALENDAR
VERSION:2.0
PRODID:-//Sociale Kalender - ECPv6.2.9//NONSGML v1.0//EN
CALSCALE:GREGORIAN
METHOD:PUBLISH
X-WR-CALNAME:Sociale Kalender
X-ORIGINAL-URL:https://www.socialekalender.be
X-WR-CALDESC:Evenementen voor Sociale Kalender
REFRESH-INTERVAL;VALUE=DURATION:PT1H
X-Robots-Tag:noindex
X-PUBLISHED-TTL:PT1H
BEGIN:VTIMEZONE
TZID:Europe/Brussels
BEGIN:DAYLIGHT
TZOFFSETFROM:+0100
TZOFFSETTO:+0200
TZNAME:CEST
DTSTART:20210328T010000
END:DAYLIGHT
BEGIN:STANDARD
TZOFFSETFROM:+0200
TZOFFSETTO:+0100
TZNAME:CET
DTSTART:20211031T010000
END:STANDARD
END:VTIMEZONE
BEGIN:VEVENT
DTSTART;TZID=Europe/Brussels:20210318T200000
DTEND;TZID=Europe/Brussels:20210318T213000
DTSTAMP:20260422T181916
CREATED:20210304T071353Z
LAST-MODIFIED:20210306T104854Z
UID:5277-1616097600-1616103000@www.socialekalender.be
SUMMARY:Paul De Grauwe over de economie van de toekomst.
DESCRIPTION:Reeds voor de coronacrisis waarschuwde Paul De Grauwe dat de slinger te ver was doorgeslagen. In de eeuwige slingerbeweging tussen macht van de markt en macht van de staat\, helt de slinger de laatste decennia over in de richting van een geliberaliseerde vrijemarkteconomie. Kernproblemen als klimaatverandering en groeiende inkomensongelijkheid illustreren de onvermijdelijke limieten van de markt. Ook in het beheersen van de pandemie en de economische gevolgen ervan is de markt onmachtig en kijkt men uitdrukkelijk naar de overheid om orde op zaken te stellen. In het verleden hebben ontwrichtende gebeurtenissen vaak voor een correctie gezorgd. In die zin kan het herstelbeleid van de coronashock voor een kentering zorgen. Paul De Grauwe pleit alvast voor een vermogensbelasting en internationale samenwerking rond klimaatverandering als belangrijke aandachtspunten in het herstel van dit evenwicht. In deze zoomsessie deelt Paul De Grauwe ons zijn inzichten\, maar hij neemt ook ruim de tijd om in te gaan op jullie vragen. Je ontvangt enkele dagen op voorhand de zoomlink. Heb je recht op een verhoogde tegemoetkoming? Dan betaal je € 2 in plaats van € 5.
URL:https://www.socialekalender.be/evenement/paul-de-grauwe-over-de-aconomie-van-de-toekomst/
LOCATION:ONLINE
ATTACH;FMTTYPE=image/jpeg:https://www.socialekalender.be/wp-content/uploads/2021/03/Paul-De-Grauwe.jpg
END:VEVENT
END:VCALENDAR