BEGIN:VCALENDAR
VERSION:2.0
PRODID:-//Sociale Kalender - ECPv6.2.9//NONSGML v1.0//EN
CALSCALE:GREGORIAN
METHOD:PUBLISH
X-WR-CALNAME:Sociale Kalender
X-ORIGINAL-URL:https://www.socialekalender.be
X-WR-CALDESC:Evenementen voor Sociale Kalender
REFRESH-INTERVAL;VALUE=DURATION:PT1H
X-Robots-Tag:noindex
X-PUBLISHED-TTL:PT1H
BEGIN:VTIMEZONE
TZID:Europe/Brussels
BEGIN:DAYLIGHT
TZOFFSETFROM:+0100
TZOFFSETTO:+0200
TZNAME:CEST
DTSTART:20210328T010000
END:DAYLIGHT
BEGIN:STANDARD
TZOFFSETFROM:+0200
TZOFFSETTO:+0100
TZNAME:CET
DTSTART:20211031T010000
END:STANDARD
END:VTIMEZONE
BEGIN:VEVENT
DTSTART;TZID=Europe/Brussels:20210401T193000
DTEND;TZID=Europe/Brussels:20210401T210000
DTSTAMP:20260422T181916
CREATED:20210304T070739Z
LAST-MODIFIED:20210304T070739Z
UID:5266-1617305400-1617310800@www.socialekalender.be
SUMMARY:Rob Hopkins over transitie (webinar)
DESCRIPTION:Rob Hopkins (° 1968\, Londen) verhuisde in 2005 naar het stadje Totnes\, dat hij omtoverde tot de eerste transition town ter wereld. Hij wordt beschouwd als de founding father van de transitiebeweging\, en is medeoprichter van het Transition Network. Zopas verscheen zijn nieuwste boek\, “From what is to what if”. Hij legt de nadruk op de impact van lokale groepen om tot een zorgzame cultuur en veerkrachtige samenleving te komen. Jan Mertens (OIKOS) modereert het gesprek\, dat in het Engels verloopt
URL:https://www.socialekalender.be/evenement/rob-hopkins-over-transitie-webinar/
LOCATION:ONLINE
ATTACH;FMTTYPE=image/jpeg:https://www.socialekalender.be/wp-content/uploads/2021/03/Rob-Hopkins.jpg
END:VEVENT
END:VCALENDAR