BEGIN:VCALENDAR
VERSION:2.0
PRODID:-//Sociale Kalender - ECPv6.2.9//NONSGML v1.0//EN
CALSCALE:GREGORIAN
METHOD:PUBLISH
X-WR-CALNAME:Sociale Kalender
X-ORIGINAL-URL:https://www.socialekalender.be
X-WR-CALDESC:Evenementen voor Sociale Kalender
REFRESH-INTERVAL;VALUE=DURATION:PT1H
X-Robots-Tag:noindex
X-PUBLISHED-TTL:PT1H
BEGIN:VTIMEZONE
TZID:Europe/Brussels
BEGIN:DAYLIGHT
TZOFFSETFROM:+0100
TZOFFSETTO:+0200
TZNAME:CEST
DTSTART:20210328T010000
END:DAYLIGHT
BEGIN:STANDARD
TZOFFSETFROM:+0200
TZOFFSETTO:+0100
TZNAME:CET
DTSTART:20211031T010000
END:STANDARD
END:VTIMEZONE
BEGIN:VEVENT
DTSTART;TZID=Europe/Brussels:20210405T100000
DTEND;TZID=Europe/Brussels:20210405T170000
DTSTAMP:20260422T181915
CREATED:20210217T160223Z
LAST-MODIFIED:20210217T160223Z
UID:5203-1617616800-1617642000@www.socialekalender.be
SUMMARY:Hilde Keunen stelt tentoon
DESCRIPTION:Van 27 februari tot en met 5 april loopt er in het Pastoraal Centrum Seminarie een tentoonstelling van de Peltse kunstenaar Hilde Keunen. In haar sculpturen en schilderijen bespeelt ze de relatie tussen mensen en zoekt ze daarbij steevast naar de raakvlakken tussen cultuur en natuur. Ze probeert voornamelijk de schoonheid van het eenvoudige uit de verf te laten komen. Onderwerpen zoals rassendiscriminatie\, vluchtelingen of milieu laten haar niet onberoerd. De expo is op weekdagen toegankelijk van 10u tot 17u\, en op zaterdagen van 10u tot 12u. Individuele bezoekers zijn welkom\, samen met hun huisgenoten en één nauw contact. Vergeet uw mondmasker niet.
URL:https://www.socialekalender.be/evenement/hilde-keunen-stelt-tentoon/
LOCATION:PCS\, Tulpinstraat 75\, Hasselt\, Limburg\, 3500\, België
ATTACH;FMTTYPE=image/jpeg:https://www.socialekalender.be/wp-content/uploads/2021/02/Hilde-Keunen.jpg
END:VEVENT
END:VCALENDAR