BEGIN:VCALENDAR
VERSION:2.0
PRODID:-//Sociale Kalender - ECPv6.2.9//NONSGML v1.0//EN
CALSCALE:GREGORIAN
METHOD:PUBLISH
X-ORIGINAL-URL:https://www.socialekalender.be
X-WR-CALDESC:Evenementen voor Sociale Kalender
REFRESH-INTERVAL;VALUE=DURATION:PT1H
X-Robots-Tag:noindex
X-PUBLISHED-TTL:PT1H
BEGIN:VTIMEZONE
TZID:Europe/Brussels
BEGIN:DAYLIGHT
TZOFFSETFROM:+0100
TZOFFSETTO:+0200
TZNAME:CEST
DTSTART:20210328T010000
END:DAYLIGHT
BEGIN:STANDARD
TZOFFSETFROM:+0200
TZOFFSETTO:+0100
TZNAME:CET
DTSTART:20211031T010000
END:STANDARD
END:VTIMEZONE
BEGIN:VEVENT
DTSTART;TZID=Europe/Brussels:20210418T200000
DTEND;TZID=Europe/Brussels:20210418T220000
DTSTAMP:20260422T194947
CREATED:20210331T151030Z
LAST-MODIFIED:20210331T151030Z
UID:5370-1618776000-1618783200@www.socialekalender.be
SUMMARY:Zingeving en ecologie
DESCRIPTION:Klimaatverandering kwam de voorbije jaren steeds meer op de politieke agenda te staan dankzij de internationale klimaatmarsen\, de klimaatzaak en de verschillende klimaatrampen wereldwijd. Hoewel klimaat een veel besproken thema is\, wordt het zelden besproken vanuit religieus of zingevingsperspectief. Vier sprekers nemen een inspirerende quote uit hun religieus of zingevingsboek en brengen dan een reflecterende lezing over ecologie en zingeving. Daarna gaan ze als panel met elkaar in gesprek. Chemieleerkracht en medeoprichter van Green Deen vzw Yasmina Akhandaf brengt een lezing vanuit islamitisch perspectief\, hoogleraar Hans Alma vanuit het humanistisch perspectief\, Markus Fobelets vanuit het hindoeïstisch perspectief en Isfried Rodeyns vanuit het perspectief van de Quakers. Zahra El-Jadid vat de gesprekken illustratief samen en laat ons tijdens de pauze en als slot meegenieten van haar werk. Deze activiteit vindt plaats binnen het kader van de week van de filosofie. Inschrijven kan via de website www.dagvandefilosofie.be.
URL:https://www.socialekalender.be/evenement/zingeving-en-ecologie/
LOCATION:ONLINE
ATTACH;FMTTYPE=image/jpeg:https://www.socialekalender.be/wp-content/uploads/2019/09/GvK.jpg
END:VEVENT
END:VCALENDAR