BEGIN:VCALENDAR
VERSION:2.0
PRODID:-//Sociale Kalender - ECPv6.2.9//NONSGML v1.0//EN
CALSCALE:GREGORIAN
METHOD:PUBLISH
X-ORIGINAL-URL:https://www.socialekalender.be
X-WR-CALDESC:Evenementen voor Sociale Kalender
REFRESH-INTERVAL;VALUE=DURATION:PT1H
X-Robots-Tag:noindex
X-PUBLISHED-TTL:PT1H
BEGIN:VTIMEZONE
TZID:Europe/Brussels
BEGIN:DAYLIGHT
TZOFFSETFROM:+0100
TZOFFSETTO:+0200
TZNAME:CEST
DTSTART:20210328T010000
END:DAYLIGHT
BEGIN:STANDARD
TZOFFSETFROM:+0200
TZOFFSETTO:+0100
TZNAME:CET
DTSTART:20211031T010000
END:STANDARD
END:VTIMEZONE
BEGIN:VEVENT
DTSTART;TZID=Europe/Brussels:20210422T190000
DTEND;TZID=Europe/Brussels:20210422T190000
DTSTAMP:20260422T194949
CREATED:20200921T062332Z
LAST-MODIFIED:20200921T062332Z
UID:4830-1619118000-1619118000@www.socialekalender.be
SUMMARY:Je eigen zwaard smeden (driedaagse)
DESCRIPTION:De vzw MannenWerk wil aandacht besteden aan de ontwikkeling en expressie van gezonde\, authentieke en creatieve mannelijkheid en deze kwaliteiten dienstbaar uitdragen in de samenleving. Sinds 2014 organiseert de vereniging driedaagsen rond “je eigen zwaard smeden”. Deze editie gaan we dat proces verbinden met Integral Presence for Men – IP4Men. Het ontwerpen en smeden van je zwaard is een proces dat verschillende fases doorloopt die we in verband brengen met de elementen van Integral Presence: (1) mindfullness is noodzakelijk zowel bij het creatieve proces als bij het smeden zelf: voelen wat er wil gemanifesteerd worden en alert zijn bij het hanteren van vuur\, ijzer\, lucht en water. (2) intentie geeft de oorspronkelijke richting van de creatieve schepping. (3) ademhaling of zuurstof geeft de energie om (4) tot actie te komen. De inhoudelijke begeleiding is in handen van Tom Nys. Michel Mouton instrueert bij het smeden. In de deelnameprijs (€ 520 voor particulieren) is inbegrepen: 3 overnachtingen\, maaltijden\, beschermingskledij en materialen. Zelf mee te brengen: lakens/dekens/kussen of slaapzak\, handdoek\, en eventueel een tent voor wie liever kampeert.
URL:https://www.socialekalender.be/evenement/je-eigen-zwaard-smeden-driedaagse/
LOCATION:Esquenne 8\, Esquenne 8\, Flobecq\, 7880\, België
ATTACH;FMTTYPE=image/jpeg:https://www.socialekalender.be/wp-content/uploads/2020/09/zwaardsmeden.jpg
END:VEVENT
END:VCALENDAR