BEGIN:VCALENDAR
VERSION:2.0
PRODID:-//Sociale Kalender - ECPv6.2.9//NONSGML v1.0//EN
CALSCALE:GREGORIAN
METHOD:PUBLISH
X-WR-CALNAME:Sociale Kalender
X-ORIGINAL-URL:https://www.socialekalender.be
X-WR-CALDESC:Evenementen voor Sociale Kalender
REFRESH-INTERVAL;VALUE=DURATION:PT1H
X-Robots-Tag:noindex
X-PUBLISHED-TTL:PT1H
BEGIN:VTIMEZONE
TZID:Europe/Brussels
BEGIN:DAYLIGHT
TZOFFSETFROM:+0100
TZOFFSETTO:+0200
TZNAME:CEST
DTSTART:20210328T010000
END:DAYLIGHT
BEGIN:STANDARD
TZOFFSETFROM:+0200
TZOFFSETTO:+0100
TZNAME:CET
DTSTART:20211031T010000
END:STANDARD
END:VTIMEZONE
BEGIN:VEVENT
DTSTART;TZID=Europe/Brussels:20210424T200000
DTEND;TZID=Europe/Brussels:20210424T200000
DTSTAMP:20260422T181915
CREATED:20210223T151535Z
LAST-MODIFIED:20210223T151535Z
UID:5229-1619294400-1619294400@www.socialekalender.be
SUMMARY:Nachtbeleving
DESCRIPTION:De nacht is een ideaal moment om een straf verhaal te vertellen of nachtdieren te ontdekken. We bieden jou op zaterdagavond de keuze uit verschillende avondactiviteiten\, zoals: ‘In het spoor van De Bokkerijders’\, of een ‘vleermuizenmysterie-wandeling’. Aan het bezoekerscentrum sluiten we gezellig af aan de vuurkorf met lekkers\, voor we de diepe nacht induiken. Deze activiteit vindt plaats in het kader van de Erfgoeddag. Begeleiding: Thomas Eerdekens en Cor van der Meer.
URL:https://www.socialekalender.be/evenement/nachtbeleving/
LOCATION:bezoekerscentrum Hengelhoef\, Hengelhoefdreef 6\, Houthalen\, 3530
ATTACH;FMTTYPE=image/jpeg:https://www.socialekalender.be/wp-content/uploads/2021/02/nachtlandschap.jpeg
END:VEVENT
END:VCALENDAR