BEGIN:VCALENDAR
VERSION:2.0
PRODID:-//Sociale Kalender - ECPv6.2.9//NONSGML v1.0//EN
CALSCALE:GREGORIAN
METHOD:PUBLISH
X-WR-CALNAME:Sociale Kalender
X-ORIGINAL-URL:https://www.socialekalender.be
X-WR-CALDESC:Evenementen voor Sociale Kalender
REFRESH-INTERVAL;VALUE=DURATION:PT1H
X-Robots-Tag:noindex
X-PUBLISHED-TTL:PT1H
BEGIN:VTIMEZONE
TZID:Europe/Brussels
BEGIN:DAYLIGHT
TZOFFSETFROM:+0100
TZOFFSETTO:+0200
TZNAME:CEST
DTSTART:20210328T010000
END:DAYLIGHT
BEGIN:STANDARD
TZOFFSETFROM:+0200
TZOFFSETTO:+0100
TZNAME:CET
DTSTART:20211031T010000
END:STANDARD
END:VTIMEZONE
BEGIN:VEVENT
DTSTART;TZID=Europe/Brussels:20210429T193000
DTEND;TZID=Europe/Brussels:20210429T193000
DTSTAMP:20260422T164052
CREATED:20210411T095411Z
LAST-MODIFIED:20210411T095411Z
UID:5404-1619724600-1619724600@www.socialekalender.be
SUMMARY:Uitgewerkt: debat over langdurig zieken
DESCRIPTION:De verklaring van 30 november (www.globalsharedvision.com) bevat een kort memorandum voor een leefbare samenleving. Onder die vlag organiseert het Humanistisch Verbond een debattenreeks\, met als eerste eentje onder de titel “Uitgewerkt”. Het panelgesprek vertrekt van het gegeven dat België een groeiend aantal langdurig zieken telt. Legt onze jacht naar financiële groei een te groot beslag op de aarde en zorgt ze voor uitputting van mens en natuur? In haar zesde krijtlijn geeft de Verklaring aan de mens de opdracht om begrippen als werk\, productiviteit en vooruitgang te herdefiniëren om die druk te verlichten. Het debat wordt ingeleid door Hans Claus\, criminoloog en directeur van de gevangenis van Oudenaarde (foto). Nemen verder deel aan het debat: Stijn Baert (UGent en UAntwerpen)\, Lynn Formesyn (auteur van Zinvol ziek)\, Danny Van Assche (UNIZO)\, Luc Van Gorp (vz. CM) en Miet Vanhegen (KUL\, doctoreerde op thema arbeidsongeschiktheid). Achteraf is er tijd voor vragen en gedachtewisseling (per chat). U kunt inschrijven via deze link (kan tot uiterlijk donderdag 29 april\, 17.00 uur).
URL:https://www.socialekalender.be/evenement/uitgewerkt-debat-over-langdurig-zieken/
LOCATION:ONLINE
ATTACH;FMTTYPE=image/png:https://www.socialekalender.be/wp-content/uploads/2021/04/Hans-Claus.png
END:VEVENT
BEGIN:VEVENT
DTSTART;TZID=Europe/Brussels:20210429T193000
DTEND;TZID=Europe/Brussels:20210429T193000
DTSTAMP:20260422T164052
CREATED:20210417T095333Z
LAST-MODIFIED:20210417T095333Z
UID:5435-1619724600-1619724600@www.socialekalender.be
SUMMARY:Debat over gascentrales
DESCRIPTION:Momenteel plannen energiebedrijven nieuwe gascentrales te bouwen en bestaande gascentrales uit te breiden. Dit om de kernuitstap van 2025 mogelijk te maken. Op 8 verschillende plekken in Vlaanderen en Wallonië zijn energiebedrijven op dit moment bezig met het aanvragen van vergunningen. Zijn deze gascentrales wenselijk? Kunnen ze ecologisch zijn? Is het een noodzakelijk kwaad? Zijn er alternatieven? We beloven een inhoudelijk en tegensprekelijk debat over deze belangrijke kwestie. De volgende sprekers kunnen we alvast meedelen: prof. Ronny Belmans van Energyville en Ike Teuling van Friends of the Earth. Hier vind je alle info: https://fb.me/e/4k9ACvpOQ .
URL:https://www.socialekalender.be/evenement/debat-over-gascentrales/
LOCATION:ONLINE
ATTACH;FMTTYPE=image/jpeg:https://www.socialekalender.be/wp-content/uploads/2021/04/gasturbine.jpg
END:VEVENT
BEGIN:VEVENT
DTSTART;TZID=Europe/Brussels:20210429T200000
DTEND;TZID=Europe/Brussels:20210429T211500
DTSTAMP:20260422T164052
CREATED:20210404T120608Z
LAST-MODIFIED:20210404T120608Z
UID:5382-1619726400-1619730900@www.socialekalender.be
SUMMARY:In de greep van Big Pharma: peperdure pillen
DESCRIPTION:Zitten we met zijn allen in de greep van Big Pharma of zijn er alternatieven? Hebben we de grote farmabedrijven echt nodig om medicatie te ontwikkelen en te produceren? Medicijnen worden steeds duurder. Met als gevolg dat ook in rijke landen de medische zorg onbetaalbaar dreigt te worden. De farmaceutische industrie bepaalt nu eenzijdig de prijs van nieuwe medicijnen waarvoor een patent is verleend. De productiekosten van nieuwe medicijnen zijn geheim\, maar de winstmarges zijn wel openbaar en breken keer op keer nieuwe records. De industrie verzet zich tot nu toe met succes tegen alle pogingen om medicijnen goedkoper te maken. Volgens Tim Joye en Julie Steendam zijn er alternatieven. Ze zeggen dat het goed mogelijk is om medicijnen goedkoper op de markt te brengen. Dit zonder afbreuk te doen op onderzoek\, ontwikkeling en productie. Tijdens deze sessie ontdek je hoe het anders kan. \nTim Joye is huisarts en nationaal vice-voorzitter bij Geneeskunde voor het Volk in Hoboken. Hij is een groot voorstander van het kiwimodel. Julie Steendam is coördinator van het European Citizens’ Initiative Right to Cure. European Citizens’ Initiative ‘Right to Cure’ is een coalitie van meer dan 170 Europese maatschappelijke organisaties. Ze willen een wetswijziging indienen waarin de Europese Commissie haar noodbevoegdheden en overheidsfinanciering gebruikt om druk uit te oefenen op Pfizer/ BioNTech\, AstraZeneca\, Moderna en andere later succesvolle vaccinproducenten. Ze willen de vaccinwetenschap en -technologie openlijk delen\, afzien van hun octrooien en aandringen op een betrokkenheid van grote vaccinproducenten betrokken bij de productie. Bekijk ter inspiratie deze VPRO Tegenlicht documentaire en laat je stem horen in deze digitale meet-up. Via deze zoomlink krijg je toegang tot onze virtuele Peperfabriekruimte.
URL:https://www.socialekalender.be/evenement/in-de-greep-van-big-pharma-peperdure-pillen/
LOCATION:ONLINE
ATTACH;FMTTYPE=image/jpeg:https://www.socialekalender.be/wp-content/uploads/2021/04/pillen.jpg
END:VEVENT
END:VCALENDAR