BEGIN:VCALENDAR
VERSION:2.0
PRODID:-//Sociale Kalender - ECPv6.2.9//NONSGML v1.0//EN
CALSCALE:GREGORIAN
METHOD:PUBLISH
X-WR-CALNAME:Sociale Kalender
X-ORIGINAL-URL:https://www.socialekalender.be
X-WR-CALDESC:Evenementen voor Sociale Kalender
REFRESH-INTERVAL;VALUE=DURATION:PT1H
X-Robots-Tag:noindex
X-PUBLISHED-TTL:PT1H
BEGIN:VTIMEZONE
TZID:Europe/Brussels
BEGIN:DAYLIGHT
TZOFFSETFROM:+0100
TZOFFSETTO:+0200
TZNAME:CEST
DTSTART:20210328T010000
END:DAYLIGHT
BEGIN:STANDARD
TZOFFSETFROM:+0200
TZOFFSETTO:+0100
TZNAME:CET
DTSTART:20211031T010000
END:STANDARD
END:VTIMEZONE
BEGIN:VEVENT
DTSTART;TZID=Europe/Brussels:20210501T100000
DTEND;TZID=Europe/Brussels:20210501T100000
DTSTAMP:20260422T164052
CREATED:20210404T121812Z
LAST-MODIFIED:20210404T121812Z
UID:5394-1619863200-1619863200@www.socialekalender.be
SUMMARY:Dacht u echt dat de kolonisatie over is?
DESCRIPTION:Een panelgesprek over grondstoffen\, machthebbers en neokolonialisme\, over hoe Afrika wordt leeggeplunderd en wij consumeren. In het panel: Raf Custers\, Marie Bamutese\, Koen Bogaert en Baudouin Mena Sebu. Online via Facebook Live (ook toegankelijk zonder account).
URL:https://www.socialekalender.be/evenement/dacht-u-echt-dat-de-kolonisatie-over-is/
LOCATION:ONLINE
ATTACH;FMTTYPE=image/gif:https://www.socialekalender.be/wp-content/uploads/2021/04/Bacongo-1.gif
END:VEVENT
END:VCALENDAR