BEGIN:VCALENDAR
VERSION:2.0
PRODID:-//Sociale Kalender - ECPv6.2.9//NONSGML v1.0//EN
CALSCALE:GREGORIAN
METHOD:PUBLISH
X-ORIGINAL-URL:https://www.socialekalender.be
X-WR-CALDESC:Evenementen voor Sociale Kalender
REFRESH-INTERVAL;VALUE=DURATION:PT1H
X-Robots-Tag:noindex
X-PUBLISHED-TTL:PT1H
BEGIN:VTIMEZONE
TZID:Europe/Brussels
BEGIN:DAYLIGHT
TZOFFSETFROM:+0100
TZOFFSETTO:+0200
TZNAME:CEST
DTSTART:20210328T010000
END:DAYLIGHT
BEGIN:STANDARD
TZOFFSETFROM:+0200
TZOFFSETTO:+0100
TZNAME:CET
DTSTART:20211031T010000
END:STANDARD
END:VTIMEZONE
BEGIN:VEVENT
DTSTART;TZID=Europe/Brussels:20210510T193000
DTEND;TZID=Europe/Brussels:20210510T193000
DTSTAMP:20260422T211435
CREATED:20210404T121046Z
LAST-MODIFIED:20210404T121046Z
UID:5388-1620675000-1620675000@www.socialekalender.be
SUMMARY:De eenzame eeuw
DESCRIPTION:We zijn beter verbonden dan ooit\, maar sociale isolatie blijkt een steeds groter probleem. In haar boek De eenzame eeuw onderzoekt econome Noreena Hertz de wereldwijde eenzaamheidscrisis en waarschuwt ze ons voor de potentiële gevolgen. Op 10 mei om 19u30 zal Stefaan Segaert dit boek uitgebreid bespreken. Nadien gaat hij hierover in gesprek met psychiater Dirk De Wachter. Schrijf hier in.
URL:https://www.socialekalender.be/evenement/de-eenzame-eeuw/
LOCATION:ONLINE
ATTACH;FMTTYPE=image/jpeg:https://www.socialekalender.be/wp-content/uploads/2021/04/eenzaamheid2.jpg
END:VEVENT
END:VCALENDAR