BEGIN:VCALENDAR
VERSION:2.0
PRODID:-//Sociale Kalender - ECPv6.2.9//NONSGML v1.0//EN
CALSCALE:GREGORIAN
METHOD:PUBLISH
X-ORIGINAL-URL:https://www.socialekalender.be
X-WR-CALDESC:Evenementen voor Sociale Kalender
REFRESH-INTERVAL;VALUE=DURATION:PT1H
X-Robots-Tag:noindex
X-PUBLISHED-TTL:PT1H
BEGIN:VTIMEZONE
TZID:Europe/Brussels
BEGIN:DAYLIGHT
TZOFFSETFROM:+0100
TZOFFSETTO:+0200
TZNAME:CEST
DTSTART:20210328T010000
END:DAYLIGHT
BEGIN:STANDARD
TZOFFSETFROM:+0200
TZOFFSETTO:+0100
TZNAME:CET
DTSTART:20211031T010000
END:STANDARD
END:VTIMEZONE
BEGIN:VEVENT
DTSTART;TZID=Europe/Brussels:20210514T190000
DTEND;TZID=Europe/Brussels:20210514T200000
DTSTAMP:20260422T211434
CREATED:20210505T145256Z
LAST-MODIFIED:20210505T145256Z
UID:5490-1621018800-1621022400@www.socialekalender.be
SUMMARY:Stiltecirkel voor verdreven Palestijnen
DESCRIPTION: Een aantal organisaties die actief zijn in de vredesbeweging organiseren een herdenking van 73 jaar Nakba. Ongeveer 750.000 Palestijnen vluchtten omstreeks 15 mei 1948 uit hun huizen en dorpen\, 400 dorpen werden vernield. Het overgrote deel van de verdrevenen kon niet terugkeren en leeft in vluchtelingenkampen in en buiten Palestina. De Palestijnen noemen deze dagen “nakba” of catastrofe. Ook 2020 was weer een triest hoogtepunt in het aantal vernielingen die Israel toebracht aan Palestijnse eigendommen. OCHA\, de VN-organisatie voor humanitaire hulp\, heeft weet van 848 vernielingen\, vaak gepaard met uitdrijving van de gezinnen. Als protest tegen dit onrecht organiseert Pax Christi samen met andere organisaties een virtuele stiltecirkel op 14 mei. Wil je online de stiltecirkel bijwonen en zo je solidariteit tonen met de Palestijnse bevolking\, schrijf je dan hier in. Dit kan tot 13 mei 2021\, 11u. Nadien ontvang je instructies om deel te nemen. Vrijdag 14 mei 2021 starten we stipt om 19u\, log dus best in rond 18u45 u. We protesteren in stilte. Een uur lang. Tijdens dit uur tonen wij een presentatie over de Nakba en de bijhorende schendingen\, en leggen we de focus op de vernielingen van eigendommen van Palestijnen en bedoeïenen door de Israëlische overheid.\n\n\n 
URL:https://www.socialekalender.be/evenement/stiltecirkel-voor-verdreven-palestijnen/
LOCATION:ONLINE
ATTACH;FMTTYPE=image/jpeg:https://www.socialekalender.be/wp-content/uploads/2021/05/nakba.jpg
END:VEVENT
END:VCALENDAR