BEGIN:VCALENDAR
VERSION:2.0
PRODID:-//Sociale Kalender - ECPv6.2.9//NONSGML v1.0//EN
CALSCALE:GREGORIAN
METHOD:PUBLISH
X-ORIGINAL-URL:https://www.socialekalender.be
X-WR-CALDESC:Evenementen voor Sociale Kalender
REFRESH-INTERVAL;VALUE=DURATION:PT1H
X-Robots-Tag:noindex
X-PUBLISHED-TTL:PT1H
BEGIN:VTIMEZONE
TZID:Europe/Brussels
BEGIN:DAYLIGHT
TZOFFSETFROM:+0100
TZOFFSETTO:+0200
TZNAME:CEST
DTSTART:20210328T010000
END:DAYLIGHT
BEGIN:STANDARD
TZOFFSETFROM:+0200
TZOFFSETTO:+0100
TZNAME:CET
DTSTART:20211031T010000
END:STANDARD
END:VTIMEZONE
BEGIN:VEVENT
DTSTART;TZID=Europe/Brussels:20210518T100000
DTEND;TZID=Europe/Brussels:20210518T160000
DTSTAMP:20260422T211434
CREATED:20210128T075705Z
LAST-MODIFIED:20210128T075705Z
UID:5100-1621332000-1621353600@www.socialekalender.be
SUMMARY:Expo krijgsgevangenenkamp Lanklaar (laatste dag)
DESCRIPTION:Op het industrieterrein van Lanklaar lagen ooit de krijgsgevangenenkampen van de Eisdense koolmijn\, een plaats die in de volksmond beter gekend bleef als het “Russisch Kamp”. De Stichting Erfgoed Eisden organiseert een tentoonstelling van dit stukje lokale geschiedenis. Drie kunstenaars zorgden voor de inkleding: Lode\, Gido en Petrus Vanlessen zijn grootvader\, vader en zoon. TVL maakte een reportage van de expo; Je kan deze reportage hier opnieuw bekijken. Openingsuren: ma t/m vr van 10u tot 12u en van 13u tot 16u. Gesloten van 15/2 tot en met 21/2\, van 5/4 tot en met 7/4 en op 13/5. Individuele bezoeken zijn mogelijk bij naleving van de veiligheidsmaatregelen. Aanmelden aan de ticketbalie is verplicht.
URL:https://www.socialekalender.be/evenement/expo-krijgsgevangenenkamp-lanklaar-laatste-dag/
LOCATION:CC Maasmechelen\, Koninginnelaan 42\, Maasmechelen\, 3630\, België
ATTACH;FMTTYPE=image/jpeg:https://www.socialekalender.be/wp-content/uploads/2021/01/Russisch-Kamp-Lanklaar.jpg
END:VEVENT
BEGIN:VEVENT
DTSTART;TZID=Europe/Brussels:20210518T121500
DTEND;TZID=Europe/Brussels:20210518T130000
DTSTAMP:20260422T211434
CREATED:20210505T144443Z
LAST-MODIFIED:20210505T144443Z
UID:5484-1621340100-1621342800@www.socialekalender.be
SUMMARY:Over je grens (boekvoorstelling)
DESCRIPTION:Sophie Van Reeth is een 20-jarige studente geschiedenis aan de Universiteit van Antwerpen en actief binnen PUNT vzw. Ze schreef het boek Genoeg Gezwegen\, over het onbegrip van haar omgeving bij grensoverschrijdend gedrag. Je eigen grens aangeven is soms een hele opgave. We hebben allemaal al eens het gevoel dat iemands gedrag een stap te ver ging. Op school\, op het werk\, in de sportclub of thuis… Hoe ga je hiermee om en hoe geef je jouw grens aan? En zeker zo belangrijk: hoe ga je om met de grenzen van anderen? Dit alles en meer kom je te weten tijdens deze Lunch en Learn\, verzorgd door PUNT vzw op initiatief van de Ambassadeurs van het Sociaal Engagement\, i.s.m. Vrijzinnig Limburg\, Oud-studenten VUB en Collectief 8 maars.
URL:https://www.socialekalender.be/evenement/over-je-grens-boekvoorstelling/
LOCATION:ONLINE
ATTACH;FMTTYPE=image/png:https://www.socialekalender.be/wp-content/uploads/2021/05/Sophie-Van-Reeth.png
END:VEVENT
END:VCALENDAR