BEGIN:VCALENDAR
VERSION:2.0
PRODID:-//Sociale Kalender - ECPv6.2.9//NONSGML v1.0//EN
CALSCALE:GREGORIAN
METHOD:PUBLISH
X-WR-CALNAME:Sociale Kalender
X-ORIGINAL-URL:https://www.socialekalender.be
X-WR-CALDESC:Evenementen voor Sociale Kalender
REFRESH-INTERVAL;VALUE=DURATION:PT1H
X-Robots-Tag:noindex
X-PUBLISHED-TTL:PT1H
BEGIN:VTIMEZONE
TZID:Europe/Brussels
BEGIN:DAYLIGHT
TZOFFSETFROM:+0100
TZOFFSETTO:+0200
TZNAME:CEST
DTSTART:20210328T010000
END:DAYLIGHT
BEGIN:STANDARD
TZOFFSETFROM:+0200
TZOFFSETTO:+0100
TZNAME:CET
DTSTART:20211031T010000
END:STANDARD
END:VTIMEZONE
BEGIN:VEVENT
DTSTART;TZID=Europe/Brussels:20210520T150000
DTEND;TZID=Europe/Brussels:20210520T170000
DTSTAMP:20260422T164051
CREATED:20210505T141829Z
LAST-MODIFIED:20210505T141829Z
UID:5465-1621522800-1621530000@www.socialekalender.be
SUMMARY:Slimme ruimtelijke ordening
DESCRIPTION:Door slimme ruimtelijke ordening stijgt de kwaliteit van onze leefomgeving én kunnen de klimaatdoelstellingen gerealiseerd worden. Wil je meer weten over de cruciale rol die de lokale besturen en ruimtelijke planners daarin spelen? Volg dan dit gratis webinar naar aanleiding van 50 jaar Bond Beter Leefmilieu. Tijdens het afsluitende vraaggesprek kan je een vraag voorleggen aan het aanwezige panel van experten. Deelnemers: Erik Grietens (BBL)\, Serge De Gheldere (Futureproofed Cities)\, Els Terryn (Voorland)\, Lieven Symons (Waterland)\, Tim De Keyser (Lidl).
URL:https://www.socialekalender.be/evenement/slimme-ruimtelijke-ordening/
LOCATION:ONLINE
ATTACH;FMTTYPE=image/png:https://www.socialekalender.be/wp-content/uploads/2021/05/ruimtelijke-ordening.png
END:VEVENT
BEGIN:VEVENT
DTSTART;TZID=Europe/Brussels:20210520T190000
DTEND;TZID=Europe/Brussels:20210520T190000
DTSTAMP:20260422T164051
CREATED:20210512T142742Z
LAST-MODIFIED:20210512T142742Z
UID:5519-1621537200-1621537200@www.socialekalender.be
SUMMARY:Over je grens (panelgesprek)
DESCRIPTION:Je eigen grens aangeven is soms een hele opgave. We hebben allemaal al eens het gevoel dat iemands gedrag een stap te ver ging. Op school\, op het werk\, in de sportclub of thuis… Tijdens dit panelgesprek legt Annouk Brebels\, jongerencoördinator van deMens.nu\, de vinger aan de pols bij seksuoloog Sam Geuens (foto) en Journaliste Kjenta Vangampelare. Je kan op Youtube inloggen via: https://youtu.be/eU3yQQaZGi4.  Een initiatief van de Ambassadeurs van het Sociaal Engagement\, i.s.m. Vrijzinnig Limburg\, Oud-studenten VUB en Collectief 8 maars.\n\norganisatie: Ambassadeurs van het Sociaal Engagement\nplaats: online\nprijs: gratis\ninlichtingen en inschrijven: 011/21 06 54 of hasselt@demens.nu
URL:https://www.socialekalender.be/evenement/over-je-grens-panelgesprek/
LOCATION:ONLINE
ATTACH;FMTTYPE=image/jpeg:https://www.socialekalender.be/wp-content/uploads/2021/05/Sam-Geuens.jpg
END:VEVENT
BEGIN:VEVENT
DTSTART;TZID=Europe/Brussels:20210520T200000
DTEND;TZID=Europe/Brussels:20210520T200000
DTSTAMP:20260422T164051
CREATED:20210417T094110Z
LAST-MODIFIED:20210417T094110Z
UID:5430-1621540800-1621540800@www.socialekalender.be
SUMMARY:Van liefdadig naar rechtvaardig
DESCRIPTION:Er zijn veel globale uitdagingen die ons wereldwijd verbinden\, zoals de klimaatcrisis of een pandemie. De gevolgen ervan raken sommigen echter meer dan anderen. Dit onrecht vraagt een antwoord in de vorm van internationale solidariteit. Maar wat betekent internationale solidariteit in deze turbulente tijden? En hoe organiseren we dat best in de toekomst?\n\n\n\n\n\n11.11.11-directeur Els Hertogen schreef daarom het boek “Van Liefdadig naar rechtvaardig. 11 Stemmen over de toekomst van internationale solidariteit”. Ze verzamelde 11 vooraanstaande buitenlandse auteurs die hun licht hierop werpen in prikkelende essays (oa Jason Hickel\, Natalia Greene\, Christian Felber\, Lidy Nacpil en Izabella Teixeira). Ze brengen visies over herverdeling en ecologie tot dekolonisatie en technologie. Hun analyses en oplossingen zijn verschillend\, maar erg aanvullend en als er één iets zeker is\, is dat we naar de toekomst net méér internationale solidariteit nodig hebben\, niet minder. Het boek van Els Hertogen komt uit rond 4 mei. Tijdens deze boekvoorstelling kunt u een panelgesprek volgen met Koen Vanmechelen (beeldend kunstenaar)\, Amir Bachrouri (voorzitter Vlaamse Jeugdraad)\, Valerie Del Re (directeur Greenpeace)\, Nadia Nsayi (expert dekolonisatie)\, Lisette Ma Neza (slam poet) en Meryame Kitir (Minister van Ontwikkelingssamenwerking).
URL:https://www.socialekalender.be/evenement/van-liefdadig-naar-rechtvaardig/
LOCATION:ONLINE
ATTACH;FMTTYPE=image/jpeg:https://www.socialekalender.be/wp-content/uploads/2021/04/Els-Hertogen-1.jpg
ORGANIZER;CN="11.11.11":MAILTO:limburg@11.be
END:VEVENT
END:VCALENDAR