BEGIN:VCALENDAR
VERSION:2.0
PRODID:-//Sociale Kalender - ECPv6.2.9//NONSGML v1.0//EN
CALSCALE:GREGORIAN
METHOD:PUBLISH
X-ORIGINAL-URL:https://www.socialekalender.be
X-WR-CALDESC:Evenementen voor Sociale Kalender
REFRESH-INTERVAL;VALUE=DURATION:PT1H
X-Robots-Tag:noindex
X-PUBLISHED-TTL:PT1H
BEGIN:VTIMEZONE
TZID:Europe/Brussels
BEGIN:DAYLIGHT
TZOFFSETFROM:+0100
TZOFFSETTO:+0200
TZNAME:CEST
DTSTART:20210328T010000
END:DAYLIGHT
BEGIN:STANDARD
TZOFFSETFROM:+0200
TZOFFSETTO:+0100
TZNAME:CET
DTSTART:20211031T010000
END:STANDARD
END:VTIMEZONE
BEGIN:VEVENT
DTSTART;TZID=Europe/Brussels:20210523T140000
DTEND;TZID=Europe/Brussels:20210523T140000
DTSTAMP:20260422T211434
CREATED:20210223T145752Z
LAST-MODIFIED:20210223T145752Z
UID:5219-1621778400-1621778400@www.socialekalender.be
SUMMARY:Bosbaden
DESCRIPTION:Voel de zon. Duik in een bosbad\, ruik de bosbodem\, en de bloeiende bloemen. Hoor de wind ruisen in de bomen. Adem traag en merk dat de lucht zuiver is. Wist je dat een bosbad je stressniveau en bloeddruk verlaagt? Bovendien stimuleert het je energie\, creativiteit en concentratie. Begeleiding: Ivan Steegmans.
URL:https://www.socialekalender.be/evenement/bosbaden-2/
LOCATION:bezoekerscentrum Hengelhoef\, Hengelhoefdreef 6\, Houthalen\, 3530
ATTACH;FMTTYPE=image/jpeg:https://www.socialekalender.be/wp-content/uploads/2021/02/bos-kempen-1.jpg
END:VEVENT
END:VCALENDAR