BEGIN:VCALENDAR
VERSION:2.0
PRODID:-//Sociale Kalender - ECPv6.2.9//NONSGML v1.0//EN
CALSCALE:GREGORIAN
METHOD:PUBLISH
X-WR-CALNAME:Sociale Kalender
X-ORIGINAL-URL:https://www.socialekalender.be
X-WR-CALDESC:Evenementen voor Sociale Kalender
REFRESH-INTERVAL;VALUE=DURATION:PT1H
X-Robots-Tag:noindex
X-PUBLISHED-TTL:PT1H
BEGIN:VTIMEZONE
TZID:Europe/Brussels
BEGIN:DAYLIGHT
TZOFFSETFROM:+0100
TZOFFSETTO:+0200
TZNAME:CEST
DTSTART:20210328T010000
END:DAYLIGHT
BEGIN:STANDARD
TZOFFSETFROM:+0200
TZOFFSETTO:+0100
TZNAME:CET
DTSTART:20211031T010000
END:STANDARD
END:VTIMEZONE
BEGIN:VEVENT
DTSTART;TZID=Europe/Brussels:20210525T190000
DTEND;TZID=Europe/Brussels:20210525T190000
DTSTAMP:20260422T181916
CREATED:20210512T141153Z
LAST-MODIFIED:20210512T141153Z
UID:5500-1621969200-1621969200@www.socialekalender.be
SUMMARY:Taal en stilte
DESCRIPTION:Theoloog Johan Verstraeten\, voorzitter van het Netwerk Rechtvaardigheid en Vrede\, hoort zowat overal in de samenleving een zielloze taal die de ervaring van het werk en het leven verschraalt\, een taal die de mens reduceert tot functies en instrumenten en die niet het goede nastreeft\, maar de onhaalbare realisatie van zakelijke doelstellingen. In het Leerhuis van de Contemplatieve Dialoog\, dat dit jaar werkt over het thema Stilte. Tijd en plaats van Ontmoeting\, schetst Verstraeten op 25 mei om 19u hoe die situatie een toenemend aantal mensen een gevoel van zinloosheid of een negatieve zelfperceptie bezorgt\, een burn-out of een depressie. Om mensen te kunnen inspireren\, moeten we hen in contact brengen met de bronnen van het zijn\, meent Johan Verstraeten. De nieuwe vorm van zelfvervreemding die we ondergaan kan immers worden overwonnen door stilte\, contemplatie en oefeningen uit de spiritualiteitstradities. De bijeenkomst heeft online plaats en belangstellenden krijgen na inschrijving toegang.
URL:https://www.socialekalender.be/evenement/taal-en-stilte/
LOCATION:ONLINE
ATTACH;FMTTYPE=image/jpeg:https://www.socialekalender.be/wp-content/uploads/2021/05/stilte.jpg
END:VEVENT
END:VCALENDAR