BEGIN:VCALENDAR
VERSION:2.0
PRODID:-//Sociale Kalender - ECPv6.2.9//NONSGML v1.0//EN
CALSCALE:GREGORIAN
METHOD:PUBLISH
X-WR-CALNAME:Sociale Kalender
X-ORIGINAL-URL:https://www.socialekalender.be
X-WR-CALDESC:Evenementen voor Sociale Kalender
REFRESH-INTERVAL;VALUE=DURATION:PT1H
X-Robots-Tag:noindex
X-PUBLISHED-TTL:PT1H
BEGIN:VTIMEZONE
TZID:Europe/Brussels
BEGIN:DAYLIGHT
TZOFFSETFROM:+0100
TZOFFSETTO:+0200
TZNAME:CEST
DTSTART:20210328T010000
END:DAYLIGHT
BEGIN:STANDARD
TZOFFSETFROM:+0200
TZOFFSETTO:+0100
TZNAME:CET
DTSTART:20211031T010000
END:STANDARD
END:VTIMEZONE
BEGIN:VEVENT
DTSTART;TZID=Europe/Brussels:20210528T190000
DTEND;TZID=Europe/Brussels:20210528T190000
DTSTAMP:20260422T164052
CREATED:20210515T095108Z
LAST-MODIFIED:20210515T095108Z
UID:5548-1622228400-1622228400@www.socialekalender.be
SUMMARY:Khalid Benhaddou over dialoog tussen levensbeschouwingen
DESCRIPTION:Khalid Benhaddou is hoofdimam van de El Fath moskee in Gent\, moslimtheoloog en voorzitter van het Platform Vlaamse Imams (PVI). Als imam zet hij zich in voor een harmonieuze samenleving en voor samenwerking over religieuze en sociale grenzen heen. Tijdens dit webinar gaat Khalid dieper in op de rol die de islam kan spelen in het creëren van de interlevensbeschouwelijke dialoog. Na de webinar van 45 minuten beantwoordt Khalid vragen vanuit het online publiek. Dit webinar is een onderdeel van het programma van Open Gebedshuizendag 2021.
URL:https://www.socialekalender.be/evenement/khalid-benhaddou-over-dialoog-tussen-levensbeschouwingen/
LOCATION:ONLINE
ATTACH;FMTTYPE=image/jpeg:https://www.socialekalender.be/wp-content/uploads/2021/05/Khalid-Benhaddou.jpg
END:VEVENT
END:VCALENDAR