BEGIN:VCALENDAR
VERSION:2.0
PRODID:-//Sociale Kalender - ECPv6.2.9//NONSGML v1.0//EN
CALSCALE:GREGORIAN
METHOD:PUBLISH
X-WR-CALNAME:Sociale Kalender
X-ORIGINAL-URL:https://www.socialekalender.be
X-WR-CALDESC:Evenementen voor Sociale Kalender
REFRESH-INTERVAL;VALUE=DURATION:PT1H
X-Robots-Tag:noindex
X-PUBLISHED-TTL:PT1H
BEGIN:VTIMEZONE
TZID:Europe/Brussels
BEGIN:DAYLIGHT
TZOFFSETFROM:+0100
TZOFFSETTO:+0200
TZNAME:CEST
DTSTART:20210328T010000
END:DAYLIGHT
BEGIN:STANDARD
TZOFFSETFROM:+0200
TZOFFSETTO:+0100
TZNAME:CET
DTSTART:20211031T010000
END:STANDARD
END:VTIMEZONE
BEGIN:VEVENT
DTSTART;TZID=Europe/Brussels:20210529T190000
DTEND;TZID=Europe/Brussels:20210529T190000
DTSTAMP:20260422T164053
CREATED:20210515T130414Z
LAST-MODIFIED:20210515T130414Z
UID:5553-1622314800-1622314800@www.socialekalender.be
SUMMARY:Jonas Slaats over dialoog tussen levensbeschouwingen
DESCRIPTION:Jonas Slaats is schrijver en theoloog. Hij bevindt zich op de snijlijnen van religie\, politiek en mystiek. Na zijn filosofische\, antropologische en theologische studies werd hij actief in verschillende vormen van Belgisch en internationaal vredeswerk – vaak met een focus op het multiculturele samenleven. Jonas bespreekt de belangrijkste misvattingen over religie en toont aan de hand van concrete voorbeelden uit verschillende tradities wat er precies aan schort. Na de webinar van 45 minuten beantwoordt Jonas vragen vanuit het online publiek. Deze webinar is een onderdeel van het programma van Open Gebedshuizendag 2021.\n\n 
URL:https://www.socialekalender.be/evenement/jonas-slaats-over-dialoog-tussen-levensbeschouwingen/
LOCATION:ONLINE
ATTACH;FMTTYPE=image/jpeg:https://www.socialekalender.be/wp-content/uploads/2018/04/Jonas-Slaats2-300x300.jpg
END:VEVENT
END:VCALENDAR