BEGIN:VCALENDAR
VERSION:2.0
PRODID:-//Sociale Kalender - ECPv6.2.9//NONSGML v1.0//EN
CALSCALE:GREGORIAN
METHOD:PUBLISH
X-ORIGINAL-URL:https://www.socialekalender.be
X-WR-CALDESC:Evenementen voor Sociale Kalender
REFRESH-INTERVAL;VALUE=DURATION:PT1H
X-Robots-Tag:noindex
X-PUBLISHED-TTL:PT1H
BEGIN:VTIMEZONE
TZID:Europe/Brussels
BEGIN:DAYLIGHT
TZOFFSETFROM:+0100
TZOFFSETTO:+0200
TZNAME:CEST
DTSTART:20210328T010000
END:DAYLIGHT
BEGIN:STANDARD
TZOFFSETFROM:+0200
TZOFFSETTO:+0100
TZNAME:CET
DTSTART:20211031T010000
END:STANDARD
END:VTIMEZONE
BEGIN:VEVENT
DTSTART;TZID=Europe/Brussels:20210604T200000
DTEND;TZID=Europe/Brussels:20210604T220000
DTSTAMP:20260422T130734
CREATED:20210505T142400Z
LAST-MODIFIED:20210505T142400Z
UID:5471-1622836800-1622844000@www.socialekalender.be
SUMMARY:20 jaar Natuurpunt: klimaatdebat (open lucht)
DESCRIPTION:Klimaatdebat met o.a. een toespraak van Minister Demir en Ignace Schops. Deelnemers panelgesprek: Ignace Schops (klimaatambassadeur)\, Jan Mampay (PNC)\, Bart Vangansbeke (voorzitter NP)\, Bart Lodewijkxs (Unizo)\, Ludwig Vandehove (Vlaams volksvertegenwoordiger)\, Bert Lambrechts (gedeputeerde Natuur Provincie Limburg)\, Wim Dries (burgemeester Genk) \nDit debat gaat door in de buitenlucht. Vooraf inschrijven (per deelnemer) is verplicht. 
URL:https://www.socialekalender.be/evenement/20-jaar-natuurpunt-klimaatdebat-open-lucht/
LOCATION:Bezoekerscentrum Kiewit\, Natuurpunt\, Putvennestraat 112\, Hasselt-Kiewit\, 3500
ATTACH;FMTTYPE=image/jpeg:https://www.socialekalender.be/wp-content/uploads/2021/05/kiewit.jpg
END:VEVENT
END:VCALENDAR