BEGIN:VCALENDAR
VERSION:2.0
PRODID:-//Sociale Kalender - ECPv6.2.9//NONSGML v1.0//EN
CALSCALE:GREGORIAN
METHOD:PUBLISH
X-ORIGINAL-URL:https://www.socialekalender.be
X-WR-CALDESC:Evenementen voor Sociale Kalender
REFRESH-INTERVAL;VALUE=DURATION:PT1H
X-Robots-Tag:noindex
X-PUBLISHED-TTL:PT1H
BEGIN:VTIMEZONE
TZID:Europe/Brussels
BEGIN:DAYLIGHT
TZOFFSETFROM:+0100
TZOFFSETTO:+0200
TZNAME:CEST
DTSTART:20210328T010000
END:DAYLIGHT
BEGIN:STANDARD
TZOFFSETFROM:+0200
TZOFFSETTO:+0100
TZNAME:CET
DTSTART:20211031T010000
END:STANDARD
END:VTIMEZONE
BEGIN:VEVENT
DTSTART;TZID=Europe/Brussels:20210610T150000
DTEND;TZID=Europe/Brussels:20210610T163000
DTSTAMP:20260422T130734
CREATED:20210515T094547Z
LAST-MODIFIED:20210515T094547Z
UID:5542-1623337200-1623342600@www.socialekalender.be
SUMMARY:Kan je als burger het beleid veranderen?
DESCRIPTION:Hoe belangrijk is burgerwetenschap om ons milieu in kaart te brengen? Hoe doe je dat precies als burger\, het beleid efficiënt beïnvloeden en veranderen? Welke rol kan de rechtbank spelen als overheden in gebreke blijven? Sprekers: Ignace Schops (De Klimaatzaak -foto)\, Aline Muylaert (CitizenLab)\, Jef Van Laer (Scivil) en Erik Grietens (BBL). Meer informatie en inschrijven.
URL:https://www.socialekalender.be/evenement/kan-je-als-burger-het-beleid-veranderen/
LOCATION:ONLINE
ATTACH;FMTTYPE=image/jpeg:https://www.socialekalender.be/wp-content/uploads/2021/05/Ignace-Schops-1.jpg
END:VEVENT
END:VCALENDAR