BEGIN:VCALENDAR
VERSION:2.0
PRODID:-//Sociale Kalender - ECPv6.2.9//NONSGML v1.0//EN
CALSCALE:GREGORIAN
METHOD:PUBLISH
X-ORIGINAL-URL:https://www.socialekalender.be
X-WR-CALDESC:Evenementen voor Sociale Kalender
REFRESH-INTERVAL;VALUE=DURATION:PT1H
X-Robots-Tag:noindex
X-PUBLISHED-TTL:PT1H
BEGIN:VTIMEZONE
TZID:Europe/Brussels
BEGIN:DAYLIGHT
TZOFFSETFROM:+0100
TZOFFSETTO:+0200
TZNAME:CEST
DTSTART:20210328T010000
END:DAYLIGHT
BEGIN:STANDARD
TZOFFSETFROM:+0200
TZOFFSETTO:+0100
TZNAME:CET
DTSTART:20211031T010000
END:STANDARD
END:VTIMEZONE
BEGIN:VEVENT
DTSTART;TZID=Europe/Brussels:20210613T140000
DTEND;TZID=Europe/Brussels:20210613T170000
DTSTAMP:20260422T130734
CREATED:20210505T143440Z
LAST-MODIFIED:20210505T143440Z
UID:5477-1623592800-1623603600@www.socialekalender.be
SUMMARY:Grote grazers in actie
DESCRIPTION:In het Rivierpark Maasvallei worden op meerdere plaatsen Gallowayrunderen en Konikpaarden ingezet voor het natuurbeheer. In Negenoord zie je ze bijna altijd wel staan en dit levert mooie beelden op. Een Maasverkenner vertelt je meer over het natuurlijk gedrag van de grazers en de functies die ze vervullen in natuurbeheer.
URL:https://www.socialekalender.be/evenement/grote-grazers-in-actie/
LOCATION:Maascentrum De Wissen\, Negenoordlaan 2\, Dilsen-Stokkem\, 3650\, België
ATTACH;FMTTYPE=image/jpeg:https://www.socialekalender.be/wp-content/uploads/2021/05/konikpaarden.jpg
END:VEVENT
END:VCALENDAR