BEGIN:VCALENDAR
VERSION:2.0
PRODID:-//Sociale Kalender - ECPv6.2.9//NONSGML v1.0//EN
CALSCALE:GREGORIAN
METHOD:PUBLISH
X-WR-CALNAME:Sociale Kalender
X-ORIGINAL-URL:https://www.socialekalender.be
X-WR-CALDESC:Evenementen voor Sociale Kalender
REFRESH-INTERVAL;VALUE=DURATION:PT1H
X-Robots-Tag:noindex
X-PUBLISHED-TTL:PT1H
BEGIN:VTIMEZONE
TZID:Europe/Brussels
BEGIN:DAYLIGHT
TZOFFSETFROM:+0100
TZOFFSETTO:+0200
TZNAME:CEST
DTSTART:20210328T010000
END:DAYLIGHT
BEGIN:STANDARD
TZOFFSETFROM:+0200
TZOFFSETTO:+0100
TZNAME:CET
DTSTART:20211031T010000
END:STANDARD
END:VTIMEZONE
BEGIN:VEVENT
DTSTART;TZID=Europe/Brussels:20210616T093000
DTEND;TZID=Europe/Brussels:20210616T110000
DTSTAMP:20260422T130736
CREATED:20210515T131212Z
LAST-MODIFIED:20210515T131212Z
UID:5561-1623835800-1623841200@www.socialekalender.be
SUMMARY:Mindful Dru Yogawandeling
DESCRIPTION:We wandelen gedurende 1\,5 uur max. 3km in stilte en stoppen een aantal keer om Dru Yoga te doen. Het is een heerlijke manier om tot rust te komen\, in verbinding met de natuur en met jezelf. Naast kledij waarin je makkelijk kan bewegen\, schoeisel waarmee je makkelijk stapt en eventueel een flesje water\, heb je niets nodig\, ook geen matje. Er zijn ochtendsessies op 26 mei en 16 juni. Die vinden plaats in natuurreservaat De Teut\, starten om 9.30u en vertrekken aan de Holstenen\, tegenover de hondenspeelweide\, waar de Holsteenstraat de Kapelbergweg kruist. De ochtendsessies van 19 mei\, 9 en 23 juni beginnen om 19u en vertrekken van verschillende locaties. Begeleidster is Sabine Meyers\, druyogadocent en mindfulnesstrainer. Omdat het aantal deelnemers beperkt is tot tien\, vraagt ze om in te schrijven\, liefst per mail. Voor aanmeldingen lastminute kan je best een sms-bericht sturen of via whatsapp naar 0471/13 57 59. Dan ziet Sabine het zeker en kan ze snel reageren. \nDe prijs voor deze yogawandelingen is 10€\, over te schrijven op het rekeningnummer van Siloam BE03 7350 3362 0184 met vermelding ‘Yogawandeling\, datum + jouw naam’. \nVoor meer en recente informatie kan je de facebookpagina van Sioam raadplegen: www.facebook.com/Siloam-260882014654394.
URL:https://www.socialekalender.be/evenement/mindful-dru-yogawandeling/
LOCATION:Holstenen\, Holsteenstraat\, Zonhoven\, Limburg\, 3520\, België
ATTACH;FMTTYPE=image/jpeg:https://www.socialekalender.be/wp-content/uploads/2019/08/heidelandschap.jpg
END:VEVENT
BEGIN:VEVENT
DTSTART;TZID=Europe/Brussels:20210616T200000
DTEND;TZID=Europe/Brussels:20210616T200000
DTSTAMP:20260422T130736
CREATED:20210603T044816Z
LAST-MODIFIED:20210603T044816Z
UID:5585-1623873600-1623873600@www.socialekalender.be
SUMMARY:Dit is wat er in mij omgaat
DESCRIPTION:Wat armoede doet met je hoofd: webinar over de binnenkant van armoede. De laureaten van de Prijs Armoede Uitsluiten (Welzijnszorg) vertellen hoe ze hiermee omgaan. Begrippenkaders als “schaa\nrste” en “presentie” worden tegen het licht gehouden door ervaringsdeskundigen. Via zoom. Inschrijven via www.welzijnszorg.be\, webinar op woensdag.
URL:https://www.socialekalender.be/evenement/dit-is-wat-er-in-mij-omgaat/
LOCATION:ONLINE
ATTACH;FMTTYPE=image/jpeg:https://www.socialekalender.be/wp-content/uploads/2021/06/piekeren.jpg
END:VEVENT
END:VCALENDAR