BEGIN:VCALENDAR
VERSION:2.0
PRODID:-//Sociale Kalender - ECPv6.2.9//NONSGML v1.0//EN
CALSCALE:GREGORIAN
METHOD:PUBLISH
X-ORIGINAL-URL:https://www.socialekalender.be
X-WR-CALDESC:Evenementen voor Sociale Kalender
REFRESH-INTERVAL;VALUE=DURATION:PT1H
X-Robots-Tag:noindex
X-PUBLISHED-TTL:PT1H
BEGIN:VTIMEZONE
TZID:Europe/Brussels
BEGIN:DAYLIGHT
TZOFFSETFROM:+0100
TZOFFSETTO:+0200
TZNAME:CEST
DTSTART:20210328T010000
END:DAYLIGHT
BEGIN:STANDARD
TZOFFSETFROM:+0200
TZOFFSETTO:+0100
TZNAME:CET
DTSTART:20211031T010000
END:STANDARD
END:VTIMEZONE
BEGIN:VEVENT
DTSTART;TZID=Europe/Brussels:20210620T100000
DTEND;TZID=Europe/Brussels:20210620T163000
DTSTAMP:20260422T130734
CREATED:20210512T143804Z
LAST-MODIFIED:20210512T143804Z
UID:5527-1624183200-1624206600@www.socialekalender.be
SUMMARY:Stiltedag
DESCRIPTION:Op een stiltedag worden activiteiten voorgesteld die je helpen om thuis te komen bij jezelf\, in contact met wat er in jou leeft\, in contact met jouw eigen Bron. Het gaat hier om activiteiten zoals een meditatie\, een ontspanningsoefening\, yoga\, een wandeling in het nabijgelegen natuurreservaat de Teut\, … maar je bent vrij hier wel of niet aan deel te nemen. Je kan ervoor kiezen om je terug te trekken en om je stiltedag helemaal zelf in te vullen. We sluiten de dag af met een moment van delen voor wie dit wil. We vragen 25€ voor de stiltedag om Siloam vzw te steunen. Siloam is een prachtig gelegen huis\, op 200m van de Teut\, die plek wil bieden aan ieder die zich wil herbronnen en dit via een verscheiden aanbod. Net als veel andere verenigingen heeft Siloam haar activiteiten moeten stilleggen\, waardoor ook de inkomsten achterwege bleven. Een grotere bijdrage voor het aanbod van deze dag\, ter ondersteuning van Siloam\, mag altijd maar we willen zéker niet dat de prijs een belemmering vormt om deel te nemen. Aarzel in dat geval niet om contact op te nemen. Ook voor andere vragen kan je bellen naar 0471135759 of mailen. Na inschrijving krijg je verdere info. Begeleidster Sabine Meyers is druyogadocent en mindfulnesstrainer.
URL:https://www.socialekalender.be/evenement/stiltedag-3/
LOCATION:Siloam\, Holsteenweg 17\, Zonhoven\, 3520\, België
ATTACH;FMTTYPE=image/jpeg:https://www.socialekalender.be/wp-content/uploads/2021/05/stilte-2.jpg
END:VEVENT
BEGIN:VEVENT
DTSTART;TZID=Europe/Brussels:20210620T140000
DTEND;TZID=Europe/Brussels:20210620T160000
DTSTAMP:20260422T130734
CREATED:20210523T083506Z
LAST-MODIFIED:20210523T083506Z
UID:5577-1624197600-1624204800@www.socialekalender.be
SUMMARY:Shakespeare èn 't Hessels
DESCRIPTION:Francis De Lauré gidst u in het Hasselts dialect doorheen deze stadswandeling. Op een aantal plaatsen zal hij stilstaan om u enkele in het Hasselts vertaalde sonnetten van Shakespeare voor te lezen. Waarom sonnetten van Shakespeare? Hij schreef ze tijdens de lockdown bij de pestuitbraak van 1592. De opbrengst gaat naar de vriendenkring van het personeel van het Jessaziekenhuis. Inschrijven verplicht. Maximum aantal deelnemers: 24. Met mondmasker. Dezelfde wandeling gaat ook door op zaterdag 19 juni.
URL:https://www.socialekalender.be/evenement/shakespeare-en-t-hessels-2/
LOCATION:Het Stadsmus\, Guido Gezellestraat 2\, Hasselt\, Limburg\, 3500\, België
ATTACH;FMTTYPE=image/jpeg:https://www.socialekalender.be/wp-content/uploads/2021/05/shakespeare-hessels.jpg
END:VEVENT
END:VCALENDAR