BEGIN:VCALENDAR
VERSION:2.0
PRODID:-//Sociale Kalender - ECPv6.2.9//NONSGML v1.0//EN
CALSCALE:GREGORIAN
METHOD:PUBLISH
X-WR-CALNAME:Sociale Kalender
X-ORIGINAL-URL:https://www.socialekalender.be
X-WR-CALDESC:Evenementen voor Sociale Kalender
REFRESH-INTERVAL;VALUE=DURATION:PT1H
X-Robots-Tag:noindex
X-PUBLISHED-TTL:PT1H
BEGIN:VTIMEZONE
TZID:Europe/Brussels
BEGIN:DAYLIGHT
TZOFFSETFROM:+0100
TZOFFSETTO:+0200
TZNAME:CEST
DTSTART:20210328T010000
END:DAYLIGHT
BEGIN:STANDARD
TZOFFSETFROM:+0200
TZOFFSETTO:+0100
TZNAME:CET
DTSTART:20211031T010000
END:STANDARD
END:VTIMEZONE
BEGIN:VEVENT
DTSTART;TZID=Europe/Brussels:20210623T190000
DTEND;TZID=Europe/Brussels:20210623T203000
DTSTAMP:20260422T130735
CREATED:20210611T153803Z
LAST-MODIFIED:20210611T153803Z
UID:5630-1624474800-1624480200@www.socialekalender.be
SUMMARY:De Europese Centrale Bank en het klimaat
DESCRIPTION:De Europese Centrale Bank pompt vandaag extra geld in onze economie om de economische gevolgen van de pandemie te lijf te gaan. We spreken over duizenden miljarden euro sinds vorig jaar alleen al. Vooral grote vervuilende multinationals winnen hierbij. Zij raken dankzij de ECB veel gemakkelijker aan middelen dan kleine spelers die het hard nodig hebben. Je kan je voor deze webinar inschrijven via https://www.fairfin.be/kalender/webinar-de-ecb-tegen-het-klimaat. Enkele dagen op voorhand krijg je dan de link toegestuurd.
URL:https://www.socialekalender.be/evenement/de-europese-centrale-bank-en-het-klimaat/
LOCATION:ONLINE
ATTACH;FMTTYPE=image/jpeg:https://www.socialekalender.be/wp-content/uploads/2021/06/Europese-Centrale-Bank.jpg
END:VEVENT
END:VCALENDAR