BEGIN:VCALENDAR
VERSION:2.0
PRODID:-//Sociale Kalender - ECPv6.2.9//NONSGML v1.0//EN
CALSCALE:GREGORIAN
METHOD:PUBLISH
X-WR-CALNAME:Sociale Kalender
X-ORIGINAL-URL:https://www.socialekalender.be
X-WR-CALDESC:Evenementen voor Sociale Kalender
REFRESH-INTERVAL;VALUE=DURATION:PT1H
X-Robots-Tag:noindex
X-PUBLISHED-TTL:PT1H
BEGIN:VTIMEZONE
TZID:Europe/Brussels
BEGIN:DAYLIGHT
TZOFFSETFROM:+0100
TZOFFSETTO:+0200
TZNAME:CEST
DTSTART:20210328T010000
END:DAYLIGHT
BEGIN:STANDARD
TZOFFSETFROM:+0200
TZOFFSETTO:+0100
TZNAME:CET
DTSTART:20211031T010000
END:STANDARD
END:VTIMEZONE
BEGIN:VEVENT
DTSTART;TZID=Europe/Brussels:20210627T140000
DTEND;TZID=Europe/Brussels:20210627T153000
DTSTAMP:20260422T130735
CREATED:20210603T045458Z
LAST-MODIFIED:20210603T045458Z
UID:5589-1624802400-1624807800@www.socialekalender.be
SUMMARY:Wandelgesprek door Gelinden
DESCRIPTION:We maken een natuurwandeling en volgen hierbij de coronavoorschriften. Onderweg wisselen we van gedachten over levenservaringen en zinvolle tijdsbestedingen. Deze wandeling wordt georganiseerd vanuit de vzw UilenSpiegel\, een vereniging van en voor mensen met een psychische kwetsbaarheid\, in samenwerking met natuurbeschermingsvereniging Aulenteer. Omdat inclusie en solidariteit centraal staan\, komen de wandelaars uit alle hoeken en geledingen van de samenleving. Luisteren naar elkaar\, naar een ander met een andere achtergrond\, is belangrijk. Het initiatief gaat uit van Jef Houbrechts\, ervaringsbegeleider relaxatiemethoden. \nDe wandeling is ongeveer 5 km lang. Achteraf kan men een bezoek brengen aan het Natuurhuis.
URL:https://www.socialekalender.be/evenement/wandelgesprek-door-gelinden/
LOCATION:Natuurhuis Gelinden\, Kleinveldstraat 54\, St Truiden\, Limburg\, 3800\, België
ATTACH;FMTTYPE=image/jpeg:https://www.socialekalender.be/wp-content/uploads/2021/06/natuurhuis-Gelinden-scaled.jpg
END:VEVENT
END:VCALENDAR