BEGIN:VCALENDAR
VERSION:2.0
PRODID:-//Sociale Kalender - ECPv6.2.9//NONSGML v1.0//EN
CALSCALE:GREGORIAN
METHOD:PUBLISH
X-ORIGINAL-URL:https://www.socialekalender.be
X-WR-CALDESC:Evenementen voor Sociale Kalender
REFRESH-INTERVAL;VALUE=DURATION:PT1H
X-Robots-Tag:noindex
X-PUBLISHED-TTL:PT1H
BEGIN:VTIMEZONE
TZID:Europe/Brussels
BEGIN:DAYLIGHT
TZOFFSETFROM:+0100
TZOFFSETTO:+0200
TZNAME:CEST
DTSTART:20210328T010000
END:DAYLIGHT
BEGIN:STANDARD
TZOFFSETFROM:+0200
TZOFFSETTO:+0100
TZNAME:CET
DTSTART:20211031T010000
END:STANDARD
END:VTIMEZONE
BEGIN:VEVENT
DTSTART;TZID=Europe/Brussels:20210628T140000
DTEND;TZID=Europe/Brussels:20210628T150000
DTSTAMP:20260422T070829
CREATED:20210621T082141Z
LAST-MODIFIED:20210621T082141Z
UID:5670-1624888800-1624892400@www.socialekalender.be
SUMMARY:Grondstoffen en rechtvaardige klimaattransitie
DESCRIPTION:In het kader van de Green Deal lanceerde de Europese Commissie een nieuwe ​​grondstoffenstrategie. De noodzakelijke energietransitie\, de digitalisering en de vergroening van de industrie brengen immers een explosie van de vraag naar grondstoffen – in het bijzonder mineralen en metalen – met zich mee. Naast ‘grotere duurzaamheid’ is de doelstelling van de strategie ook ‘meer zekerheid’ (lees: een gegarandeerde toevoer). \nTijdens dit webinar zal Wies Willems dieper ingaan op de sociale en ecologische impact van grondstoffenontginning in het Zuiden\, en plaatst hij enkele kritische kanttekeningen bij het Europese beleid. Wies Willems (°1985) studeerde Germaanse Talen en Letterkunde en behaalde een master-na-master Conflict & Development aan Universiteit Gent. Na zijn studies werkte hij voor verschillende ngo’s\, waaronder een jaar in Peru\, en was hij actief als freelancejournalist. Sinds 2014 is Wies beleidsmedewerker natuurlijke rijkdommen bij Broederlijk Delen\, met bijzondere aandacht voor Latijns-Amerika.Inschrijven kan via www.grootoudersvoorhetklimaat.be.
URL:https://www.socialekalender.be/evenement/grondstoffen-en-rechtvaardige-klimaattransitie/
LOCATION:ONLINE
ATTACH;FMTTYPE=image/png:https://www.socialekalender.be/wp-content/uploads/2021/06/Wies-Willems.png
END:VEVENT
END:VCALENDAR