BEGIN:VCALENDAR
VERSION:2.0
PRODID:-//Sociale Kalender - ECPv6.2.9//NONSGML v1.0//EN
CALSCALE:GREGORIAN
METHOD:PUBLISH
X-WR-CALNAME:Sociale Kalender
X-ORIGINAL-URL:https://www.socialekalender.be
X-WR-CALDESC:Evenementen voor Sociale Kalender
REFRESH-INTERVAL;VALUE=DURATION:PT1H
X-Robots-Tag:noindex
X-PUBLISHED-TTL:PT1H
BEGIN:VTIMEZONE
TZID:Europe/Brussels
BEGIN:DAYLIGHT
TZOFFSETFROM:+0100
TZOFFSETTO:+0200
TZNAME:CEST
DTSTART:20210328T010000
END:DAYLIGHT
BEGIN:STANDARD
TZOFFSETFROM:+0200
TZOFFSETTO:+0100
TZNAME:CET
DTSTART:20211031T010000
END:STANDARD
END:VTIMEZONE
BEGIN:VEVENT
DTSTART;TZID=Europe/Brussels:20210630T130000
DTEND;TZID=Europe/Brussels:20210630T170000
DTSTAMP:20260422T082548
CREATED:20210512T141721Z
LAST-MODIFIED:20210512T141721Z
UID:5506-1625058000-1625072400@www.socialekalender.be
SUMMARY:Wolven in Limburg (laatste dag expo)
DESCRIPTION:Ondertussen lopen er in West-Limburg voor de tweede keer in een jaar wolvenwelpen te ravotten. Deze jongen van het wolvenkoppel August en Noëlla zijn de eerste waargenomen welpen in 150 jaar. De expo informeert de bezoekers over de aanwezigheid van wolven in Limburg. Hoe kun je wolven herkennen? Wat eten ze? Wat betekent de terugkeer van de wolven? Waarom kiezen ze voor Limburg? Hoe kunnen mens en dier samenleven? Hoe kan je je vee beschermen? Je komt oog in oog te staan met Roger\, de in maart 2018 in Opoeteren aangereden wolf die ondertussen werd opgezet. De tentoonstelling loopt van begin mei tot einde juni. Open op woensdag\, zaterdag en zondag van 13 tot 17 uur. Ook interessant voor kinderen.
URL:https://www.socialekalender.be/evenement/wolven-in-limburg-laatste-dag-expo/
LOCATION:Bezoekerszcentrum De Watersnip\, Grauwe Steenstraat 7\, Koersel-Beringen\, Limburg\, 3582\, België
ATTACH;FMTTYPE=image/jpeg:https://www.socialekalender.be/wp-content/uploads/2020/09/wolven-in-limburg.jpg
END:VEVENT
BEGIN:VEVENT
DTSTART;TZID=Europe/Brussels:20210630T140000
DTEND;TZID=Europe/Brussels:20210630T140000
DTSTAMP:20260422T082548
CREATED:20210603T050952Z
LAST-MODIFIED:20210603T050952Z
UID:5601-1625061600-1625061600@www.socialekalender.be
SUMMARY:Rondgangwandeling over overgangsrituelen
DESCRIPTION:Een praktisch vervolg op de lezing van 17 juni. Verhalen over de invloed van planten\, over geschiedenis en gebruiken die belangrijk waren bij overgangsrituelen. Ook te volgen zonder deze lezing te hebben bezocht. Begeleider: Francesco Catalano van de Europese Academie Maastricht.
URL:https://www.socialekalender.be/evenement/rondgangwandeling-over-overgangsrituelen/
LOCATION:Vrijzinnig Ontmoetingscentrum Vitae Humana\, Prinsenhoflaan 29\, Maaseik\, Limburg\, 3680\, België
ATTACH;FMTTYPE=image/jpeg:https://www.socialekalender.be/wp-content/uploads/2021/06/rites-of-passage.jpg
END:VEVENT
END:VCALENDAR