BEGIN:VCALENDAR
VERSION:2.0
PRODID:-//Sociale Kalender - ECPv6.2.9//NONSGML v1.0//EN
CALSCALE:GREGORIAN
METHOD:PUBLISH
X-WR-CALNAME:Sociale Kalender
X-ORIGINAL-URL:https://www.socialekalender.be
X-WR-CALDESC:Evenementen voor Sociale Kalender
REFRESH-INTERVAL;VALUE=DURATION:PT1H
X-Robots-Tag:noindex
X-PUBLISHED-TTL:PT1H
BEGIN:VTIMEZONE
TZID:Europe/Brussels
BEGIN:DAYLIGHT
TZOFFSETFROM:+0100
TZOFFSETTO:+0200
TZNAME:CEST
DTSTART:20210328T010000
END:DAYLIGHT
BEGIN:STANDARD
TZOFFSETFROM:+0200
TZOFFSETTO:+0100
TZNAME:CET
DTSTART:20211031T010000
END:STANDARD
END:VTIMEZONE
BEGIN:VEVENT
DTSTART;TZID=Europe/Brussels:20210703T100000
DTEND;TZID=Europe/Brussels:20210703T170000
DTSTAMP:20260422T082547
CREATED:20210608T082534Z
LAST-MODIFIED:20210608T082534Z
UID:5612-1625306400-1625331600@www.socialekalender.be
SUMMARY:Salutogenese
DESCRIPTION:Hoe zorg je voor het behoud van je gezondheid? Kun je bij jezelf herkennen dat je gezondheid achteruitgaat en hoe kan je dan nog bijsturen? Hoe kan je ervoor zorgen dat de strategieën waar ons lichaam over beschikt optimaal hun functie kunnen uitoefenen? Dit zijn de belangrijkste onderwerpen van de dag. \nDr. Birgit Spoorenberg  vertelt over ons afweersysteem\, maakt duidelijk wat stress nu eigenlijk is en welk verband er is met o.a. voeding\, beweging\, bioritme\, temperatuur en ademhaling. Birgit laat heel duidelijk zien wat er in het lichaam gebeurt als het door welke oorzaak dan ook onder druk komt te staan. ’s Middags houden we een potluck: iedereen brengt een gerecht mee. Koffie\, thee en water worden voorzien. Inschrijven kan via https://cursussalutogenese.nl/aanmelden/ .
URL:https://www.socialekalender.be/evenement/salutogenese/
LOCATION:Het Bergsken\, Bergskensstraat 2\, Peer\, Limburg\, 3990\, België
ATTACH;FMTTYPE=image/png:https://www.socialekalender.be/wp-content/uploads/2021/06/Zijn-Tussenin-logo.png
END:VEVENT
END:VCALENDAR