BEGIN:VCALENDAR
VERSION:2.0
PRODID:-//Sociale Kalender - ECPv6.2.9//NONSGML v1.0//EN
CALSCALE:GREGORIAN
METHOD:PUBLISH
X-ORIGINAL-URL:https://www.socialekalender.be
X-WR-CALDESC:Evenementen voor Sociale Kalender
REFRESH-INTERVAL;VALUE=DURATION:PT1H
X-Robots-Tag:noindex
X-PUBLISHED-TTL:PT1H
BEGIN:VTIMEZONE
TZID:Europe/Brussels
BEGIN:DAYLIGHT
TZOFFSETFROM:+0100
TZOFFSETTO:+0200
TZNAME:CEST
DTSTART:20210328T010000
END:DAYLIGHT
BEGIN:STANDARD
TZOFFSETFROM:+0200
TZOFFSETTO:+0100
TZNAME:CET
DTSTART:20211031T010000
END:STANDARD
END:VTIMEZONE
BEGIN:VEVENT
DTSTART;TZID=Europe/Brussels:20210704T120000
DTEND;TZID=Europe/Brussels:20210704T190000
DTSTAMP:20260422T082546
CREATED:20210608T083004Z
LAST-MODIFIED:20210608T083004Z
UID:5620-1625400000-1625425200@www.socialekalender.be
SUMMARY:Uitstap: duurzame mode in Antwerpen
DESCRIPTION:Bie Noé neemt ons mee op haar ontdekkingstocht rond duurzame mode in Antwerpen. Ze vertelt ons het verhaal achter slow fashion en laat ons winkels en uiteenlopende merken zien. Bie heeft altijd iets met kleren gehad. Zes jaar geleden las ze het boek Talking Dress van Marieke Eyskoot. Zo kwam ze tot haar ontzetting te weten dat net wat ze zo mooi vond een heel lelijk kantje heeft. Zowel voor mens als milieu is de impact van de mode-industrie zwaar.De afgelopen zes jaar ontdekte Bie dat het ook anders kan. Ze leerde begrippen als ‘slow fashion’ kennen. Minder en bewuster kopen. En ze leerde ook een hele generatie aan kleren kennen die wél gemaakt worden in goede omstandigheden en met respect voor onze planeet. Ga met ons mee op ontdekkingstocht in Antwerpen en geniet van alle moois! We spreken om 12u af in het station in Hasselt en zijn rond 19u terug. Het treinticket en de begeleiding door Bie Noé zijn inbegrepen in de prijs. Er zijn kortingen voor mensen met een krap budget.
URL:https://www.socialekalender.be/evenement/uitstap-duurzame-mode-in-antwerpen/
LOCATION:Station Hasselt\, Stationsplein\, Hasselt\, Limburg\, 3500\, België
ATTACH;FMTTYPE=image/jpeg:https://www.socialekalender.be/wp-content/uploads/2021/06/kringloop.jpg
END:VEVENT
BEGIN:VEVENT
DTSTART;TZID=Europe/Brussels:20210704T140000
DTEND;TZID=Europe/Brussels:20210704T170000
DTSTAMP:20260422T082546
CREATED:20210505T143934Z
LAST-MODIFIED:20210505T143934Z
UID:5481-1625407200-1625418000@www.socialekalender.be
SUMMARY:Natuurbeleving Nationaal Park Hoge Kempen
DESCRIPTION:Tijdens deze wandeling wordt de nadruk gelegd op het gebruik van alle zintuigen. Een plaatselijke Ranger geeft uitleg\, maar zorgt ook voor activiteiten met opdrachten. Om 16.30u begint de terugtocht per minitrein (in de prijs inbegrepen). Inschrijven verplicht via www.nationaalparkhogekempen.be/nl/kalender.
URL:https://www.socialekalender.be/evenement/natuurbeleving-nationaal-park-hoge-kempen/
LOCATION:vertrek aan bezoekersonthaal van station As\, As
ATTACH;FMTTYPE=image/jpeg:https://www.socialekalender.be/wp-content/uploads/2019/08/heidelandschap.jpg
END:VEVENT
END:VCALENDAR