BEGIN:VCALENDAR
VERSION:2.0
PRODID:-//Sociale Kalender - ECPv6.2.9//NONSGML v1.0//EN
CALSCALE:GREGORIAN
METHOD:PUBLISH
X-WR-CALNAME:Sociale Kalender
X-ORIGINAL-URL:https://www.socialekalender.be
X-WR-CALDESC:Evenementen voor Sociale Kalender
REFRESH-INTERVAL;VALUE=DURATION:PT1H
X-Robots-Tag:noindex
X-PUBLISHED-TTL:PT1H
BEGIN:VTIMEZONE
TZID:Europe/Brussels
BEGIN:DAYLIGHT
TZOFFSETFROM:+0100
TZOFFSETTO:+0200
TZNAME:CEST
DTSTART:20210328T010000
END:DAYLIGHT
BEGIN:STANDARD
TZOFFSETFROM:+0200
TZOFFSETTO:+0100
TZNAME:CET
DTSTART:20211031T010000
END:STANDARD
END:VTIMEZONE
BEGIN:VEVENT
DTSTART;TZID=Europe/Brussels:20210705T093000
DTEND;TZID=Europe/Brussels:20210705T123000
DTSTAMP:20260422T082548
CREATED:20210614T160837Z
LAST-MODIFIED:20210614T160837Z
UID:5652-1625477400-1625488200@www.socialekalender.be
SUMMARY:Ruimte voor het onverwachte
DESCRIPTION:Deze activiteit is een inleiding over hoe je om kan gaan met onverwachte dingen in je leven. Katrien Ruytjens schreef het boek ‘Ruimte voor het onverwachte’. Het komt nu méér dan ooit op ons pad. Ontdek hoe je je weer wat meer kan openstellen voor het onverwachte in onze (soms) harde wereld. Dat kan zowel gaan over schoonheid als bijvoorbeeld over omgaan met pijn. Katrien Ruytjens begeleidt deze activiteit\, die bestaat uit twee sessies. Het tweede deel\, op 19 juli\, wordt al wandelend gebracht. Katrien communiceert tijdens de eerste sessie alle praktische afspraken van de belevingswandeling rond de Abdijsite Herkenrode. De prijs geldt voor de twee onderdelen. Er bestaan kortingen voor mensen met een krap budget. De deelnemersprijs is inclusief het boek ‘Ruimte voor het Onverwachte’ (Lannoocampus\, Ruytjens & Vanstichel).
URL:https://www.socialekalender.be/evenement/ruimte-voor-het-onverwachte/
LOCATION:Bezoekerscentrum Kiewit\, Natuurpunt\, Putvennestraat 112\, Hasselt-Kiewit\, 3500
ATTACH;FMTTYPE=image/jpeg:https://www.socialekalender.be/wp-content/uploads/2021/06/Katrien-Ruytjens-1.jpg
END:VEVENT
END:VCALENDAR