BEGIN:VCALENDAR
VERSION:2.0
PRODID:-//Sociale Kalender - ECPv6.2.9//NONSGML v1.0//EN
CALSCALE:GREGORIAN
METHOD:PUBLISH
X-ORIGINAL-URL:https://www.socialekalender.be
X-WR-CALDESC:Evenementen voor Sociale Kalender
REFRESH-INTERVAL;VALUE=DURATION:PT1H
X-Robots-Tag:noindex
X-PUBLISHED-TTL:PT1H
BEGIN:VTIMEZONE
TZID:Europe/Brussels
BEGIN:DAYLIGHT
TZOFFSETFROM:+0100
TZOFFSETTO:+0200
TZNAME:CEST
DTSTART:20210328T010000
END:DAYLIGHT
BEGIN:STANDARD
TZOFFSETFROM:+0200
TZOFFSETTO:+0100
TZNAME:CET
DTSTART:20211031T010000
END:STANDARD
END:VTIMEZONE
BEGIN:VEVENT
DTSTART;TZID=Europe/Brussels:20210707T140000
DTEND;TZID=Europe/Brussels:20210707T160000
DTSTAMP:20260422T070829
CREATED:20210705T151430Z
LAST-MODIFIED:20210705T151430Z
UID:5712-1625666400-1625673600@www.socialekalender.be
SUMMARY:Tai Chi in het Hageven
DESCRIPTION:Tai chi is een stijlvolle bewegingskunst uit China\, gebaseerd op de principes van yin en yang. Oorspronkelijk toegepast als gevechtssport\, heeft tai chi zich de afgelopen jaren echter ontwikkeld tot een zeer toegankelijke\, niet-inspannende gezondheidstraining voor lichaam en geest. De trage\, vloeiende bewegingen ontspannen de spieren en gewrichten\, met als resultaat een soepelere lichaamscoördinatie en een meer gestroomlijnde lichaamshouding. Begeleiding: Gert Clerckx.
URL:https://www.socialekalender.be/evenement/tai-chi-in-het-hageven/
LOCATION:Bezoekerscentrum Hageven\, Tussenstraat 10\, Neerpelt\, 3910
ATTACH;FMTTYPE=image/jpeg:https://www.socialekalender.be/wp-content/uploads/2021/07/tai-chi.jpg
END:VEVENT
BEGIN:VEVENT
DTSTART;TZID=Europe/Brussels:20210707T200000
DTEND;TZID=Europe/Brussels:20210707T214500
DTSTAMP:20260422T070829
CREATED:20210701T065808Z
LAST-MODIFIED:20210701T065808Z
UID:5682-1625688000-1625694300@www.socialekalender.be
SUMMARY:Panelgesprek over klimaatracisme
DESCRIPTION:Het is meer dan tijd om te beseffen dat de huidige klimaatcrisis een ecologische manifestatie van een socio-politiek probleem is: de mythe van groei en de ideologie die onteigening en opoffering van de ‘ander’ acceptabel maakt. Niet alleen worden landen als Bangladesh\, de Filipijnen\, Mozambique en vele eilandstaten zwaarder getroffen door een crisis die ze niet hebben veroorzaakt. De imperialistische landen en bedrijven die historisch verantwoordelijk zijn voor klimaatontwrichting weigeren verantwoordelijkheid te nemen en hun klimaatschuld te betalen. Vervolgens wordt een antiracistische analyse van dit schouwspel vaak geen platform geboden. Ook in de Lage Landen worden mensen met een migratieachtergrond vaak disproportioneel getroffen door vervuiling en uitsluitingspolitiek. Toch worden mensen van kleur niet of weinig gehoord in de huidige klimaatbeweging. Mensen die zich op intersecties bevinden\, zoals vrouwen van kleur of mensen op de vlucht\, worden nog kwetsbaarder gemaakt. De klimaatbeweging moet dus zeker inclusiever worden. In dit salongesprek willen we dieper ingaan op welke strategieën en samenwerkingen er mogelijk zijn die bijdragen aan klimaatrechtvaardigheid. Hoe kunnen die processen van samenwerking verlopen en hoe werken we daar samen naar toe? Sprekers: Shivant Jhagroe (universitair docent aan de faculteit Governance and Global Affairs van de Universiteit Leiden)\, Chihiro Geuzebroek (filmmaker\, activiste en trainer op gebied van klimaatrechtvaardigheid en mede-oprichter van dekoloniale stichting Aralez)\, en Philsan Osman (student Afrikaanse Talen en Culturen aan de Universiteit Gent\, komt uit Somalië). Moderator: Mathieu Charles. Inlichtingen en inschrijven: https://kifkif.be/node/11004 . \n  \n 
URL:https://www.socialekalender.be/evenement/panelgesprek-over-klimaatracisme/
LOCATION:ONLINE
ATTACH;FMTTYPE=image/jpeg:https://www.socialekalender.be/wp-content/uploads/2021/07/klimaatracisme.jpg
END:VEVENT
END:VCALENDAR