BEGIN:VCALENDAR
VERSION:2.0
PRODID:-//Sociale Kalender - ECPv6.2.9//NONSGML v1.0//EN
CALSCALE:GREGORIAN
METHOD:PUBLISH
X-ORIGINAL-URL:https://www.socialekalender.be
X-WR-CALDESC:Evenementen voor Sociale Kalender
REFRESH-INTERVAL;VALUE=DURATION:PT1H
X-Robots-Tag:noindex
X-PUBLISHED-TTL:PT1H
BEGIN:VTIMEZONE
TZID:Europe/Brussels
BEGIN:DAYLIGHT
TZOFFSETFROM:+0100
TZOFFSETTO:+0200
TZNAME:CEST
DTSTART:20210328T010000
END:DAYLIGHT
BEGIN:STANDARD
TZOFFSETFROM:+0200
TZOFFSETTO:+0100
TZNAME:CET
DTSTART:20211031T010000
END:STANDARD
END:VTIMEZONE
BEGIN:VEVENT
DTSTART;TZID=Europe/Brussels:20210711T150000
DTEND;TZID=Europe/Brussels:20210711T150000
DTSTAMP:20260422T082556
CREATED:20210701T065141Z
LAST-MODIFIED:20210701T065141Z
UID:5674-1626015600-1626015600@www.socialekalender.be
SUMMARY:Big Jump
DESCRIPTION:Elke tweede zondag van juli vindt de Big Jump plaats: met een groep mensen springen we in het water om aandacht te vragen voor de kwaliteit van het oppervlaktewater. Het is een internationaal evenement: over heel Europa wagen jaarlijks duizenden mensen de sprong. Omdat er tot het laatste moment onduidelijkheid was over de covid-protocollen\, zijn er dit jaar in België maar een handvol Jumps. Zie https://www.goodplanet.be/nl/big-jump-nl/
URL:https://www.socialekalender.be/evenement/big-jump/
LOCATION:Haverwerf (tegenover Vismarkt)\, 2800 Mechelen\, Haverwerf\, Mechelen\, 2800\, België
ATTACH;FMTTYPE=image/jpeg:https://www.socialekalender.be/wp-content/uploads/2021/07/big-jump.jpg
END:VEVENT
END:VCALENDAR