BEGIN:VCALENDAR
VERSION:2.0
PRODID:-//Sociale Kalender - ECPv6.2.9//NONSGML v1.0//EN
CALSCALE:GREGORIAN
METHOD:PUBLISH
X-WR-CALNAME:Sociale Kalender
X-ORIGINAL-URL:https://www.socialekalender.be
X-WR-CALDESC:Evenementen voor Sociale Kalender
REFRESH-INTERVAL;VALUE=DURATION:PT1H
X-Robots-Tag:noindex
X-PUBLISHED-TTL:PT1H
BEGIN:VTIMEZONE
TZID:Europe/Brussels
BEGIN:DAYLIGHT
TZOFFSETFROM:+0100
TZOFFSETTO:+0200
TZNAME:CEST
DTSTART:20210328T010000
END:DAYLIGHT
BEGIN:STANDARD
TZOFFSETFROM:+0200
TZOFFSETTO:+0100
TZNAME:CET
DTSTART:20211031T010000
END:STANDARD
END:VTIMEZONE
BEGIN:VEVENT
DTSTART;TZID=Europe/Brussels:20210804T123000
DTEND;TZID=Europe/Brussels:20210804T130000
DTSTAMP:20260422T053242
CREATED:20210711T093057Z
LAST-MODIFIED:20210711T093057Z
UID:5756-1628080200-1628082000@www.socialekalender.be
SUMMARY:Leuven herdenkt Hiroshima en Nagasaki
DESCRIPTION:Stille wake voor de vele slachtoffers van de atoombommen die boven Hiroshima en Nagasaki werden gedropt in 1945. Tevens roepen wij op om actie te voeren voor een wereld zonder kernwapens en voor de ondertekening door België van het VN kernwapenverbod.
URL:https://www.socialekalender.be/evenement/leuven-herdenkt-hiroshima-en-nagasaki/
LOCATION:Stadhuis\, Grote Markt 7\, Leuven\, 3000\, België
ATTACH;FMTTYPE=image/jpeg:https://www.socialekalender.be/wp-content/uploads/2021/07/Hiroshima-2.jpeg
END:VEVENT
END:VCALENDAR