BEGIN:VCALENDAR
VERSION:2.0
PRODID:-//Sociale Kalender - ECPv6.2.9//NONSGML v1.0//EN
CALSCALE:GREGORIAN
METHOD:PUBLISH
X-ORIGINAL-URL:https://www.socialekalender.be
X-WR-CALDESC:Evenementen voor Sociale Kalender
REFRESH-INTERVAL;VALUE=DURATION:PT1H
X-Robots-Tag:noindex
X-PUBLISHED-TTL:PT1H
BEGIN:VTIMEZONE
TZID:Europe/Brussels
BEGIN:DAYLIGHT
TZOFFSETFROM:+0100
TZOFFSETTO:+0200
TZNAME:CEST
DTSTART:20210328T010000
END:DAYLIGHT
BEGIN:STANDARD
TZOFFSETFROM:+0200
TZOFFSETTO:+0100
TZNAME:CET
DTSTART:20211031T010000
END:STANDARD
END:VTIMEZONE
BEGIN:VEVENT
DTSTART;TZID=Europe/Brussels:20210808T140000
DTEND;TZID=Europe/Brussels:20210808T153000
DTSTAMP:20260422T053240
CREATED:20210327T093445Z
LAST-MODIFIED:20210327T093445Z
UID:5344-1628431200-1628436600@www.socialekalender.be
SUMMARY:Herinneringswandeling Willy Peumans
DESCRIPTION:Op 27 juli 2019 overleed de Genkse natuurbeschermer Willy Peumans. Vele jaren was hij conservator van reservaat De Maten. Maar daarnaast was hij een van de grote inspirators van het Heempark\, en actief lid van NatuurbeschermingsActie Limburg (nu Limburgse Milieukoepel). Samen gaan we stilstaan bij zijn geliefkoosde plekken en boeiende verhalen. Denk aan goede wandelschoenen. Honden niet toegelaten. Inschrijven verplicht. Gratis voor leden\, € 2 voor niet-leden.
URL:https://www.socialekalender.be/evenement/herinneringswandeling-willy-peumans/
ATTACH;FMTTYPE=image/jpeg:https://www.socialekalender.be/wp-content/uploads/2021/03/Willy-Peumans.jpg
END:VEVENT
END:VCALENDAR