BEGIN:VCALENDAR
VERSION:2.0
PRODID:-//Sociale Kalender - ECPv6.2.9//NONSGML v1.0//EN
CALSCALE:GREGORIAN
METHOD:PUBLISH
X-ORIGINAL-URL:https://www.socialekalender.be
X-WR-CALDESC:Evenementen voor Sociale Kalender
REFRESH-INTERVAL;VALUE=DURATION:PT1H
X-Robots-Tag:noindex
X-PUBLISHED-TTL:PT1H
BEGIN:VTIMEZONE
TZID:Europe/Brussels
BEGIN:DAYLIGHT
TZOFFSETFROM:+0100
TZOFFSETTO:+0200
TZNAME:CEST
DTSTART:20210328T010000
END:DAYLIGHT
BEGIN:STANDARD
TZOFFSETFROM:+0200
TZOFFSETTO:+0100
TZNAME:CET
DTSTART:20211031T010000
END:STANDARD
END:VTIMEZONE
BEGIN:VEVENT
DTSTART;TZID=Europe/Brussels:20210811T190000
DTEND;TZID=Europe/Brussels:20210811T190000
DTSTAMP:20260422T053259
CREATED:20210505T142853Z
LAST-MODIFIED:20210505T142853Z
UID:5475-1628708400-1628708400@www.socialekalender.be
SUMMARY:Je eigen zwaard smeden (driedaagse)
DESCRIPTION:De vzw MannenWerk wil aandacht besteden aan de ontwikkeling en expressie van gezonde\, authentieke en creatieve mannelijkheid en deze kwaliteiten dienstbaar uitdragen in de samenleving. Sinds 2014 organiseert de vereniging driedaagsen rond “je eigen zwaard smeden”. Deze editie gaan we dat proces verbinden met Integral Presence for Men – IP4Men. Het ontwerpen en smeden van je zwaard is een proces dat verschillende fases doorloopt die we in verband brengen met de elementen van Integral Presence: (1) mindfullness is noodzakelijk zowel bij het creatieve proces als bij het smeden zelf: voelen wat er wil gemanifesteerd worden en alert zijn bij het hanteren van vuur\, ijzer\, lucht en water. (2) intentie geeft de oorspronkelijke richting van de creatieve schepping. (3) ademhaling of zuurstof geeft de energie om (4) tot actie te komen. De inhoudelijke begeleiding is in handen van Tom Nys. Michel Mouton instrueert bij het smeden. In de deelnameprijs (€ 520 voor particulieren) is inbegrepen: 3 overnachtingen\, maaltijden\, beschermingskledij en materialen. Zelf mee te brengen: lakens/dekens/kussen of slaapzak\, handdoek\, en eventueel een tent voor wie liever kampeert.
URL:https://www.socialekalender.be/evenement/je-eigen-zwaard-smeden-driedaagse-2/
LOCATION:Esquenne 8\, Esquenne 8\, Flobecq\, 7880\, België
ATTACH;FMTTYPE=image/jpeg:https://www.socialekalender.be/wp-content/uploads/2020/09/zwaardsmeden.jpg
END:VEVENT
BEGIN:VEVENT
DTSTART;TZID=Europe/Brussels:20210811T213000
DTEND;TZID=Europe/Brussels:20210811T213000
DTSTAMP:20260422T053259
CREATED:20210804T122819Z
LAST-MODIFIED:20210804T122819Z
UID:5832-1628717400-1628717400@www.socialekalender.be
SUMMARY:Het geheime leven van bomen (openluchtfilm)
DESCRIPTION:Vanaf vrijdag 6 augustus verandert het grasveld voor de vijver op Domein Kiewit negen dagen lang in een openluchtcinema voor het evenement “Zomerfilms 2021”\, dat stad Hasselt samen met Cinema ZED organiseert. De films starten na zonsondergang om 21.30u. Op woensdag 11 augustus wordt de documentaire “The Hidden Life of Trees” van Jorg Adolph gedraaid\, naar het boek van de Duitse boswachter Peter Wohlleben met zijn baanbrekende humanistische benadering van bomen als sociale communicatieve organismen. Duur: 1u41′. Een ticket kan je op voorhand kopen of ter plaatse aanschaffen voor 4 euro. Houders van een UIT-pas met kansentarief betalen 80 cent per ticket. Je eigen stoel meebrengen is niet nodig\, een gezellig dekentje volstaat. Eigen snacks meebrengen mag\, maar je kan ook terecht bij de Movie Night Bar\, uitgebaat door Koe-Vert\, voor drankjes en lekkere versnaperingen. \nMeer info vind je hier.
URL:https://www.socialekalender.be/evenement/het-geheime-leven-van-bomen-openluchtfilm/
LOCATION:Stedelijk Domein Kiewit\, Putvennestraat 108\, Kiewit - Hasselt\, 3500\, België
ATTACH;FMTTYPE=image/jpeg:https://www.socialekalender.be/wp-content/uploads/2021/08/Rita-eiken-scaled.jpg
END:VEVENT
END:VCALENDAR