BEGIN:VCALENDAR
VERSION:2.0
PRODID:-//Sociale Kalender - ECPv6.2.9//NONSGML v1.0//EN
CALSCALE:GREGORIAN
METHOD:PUBLISH
X-WR-CALNAME:Sociale Kalender
X-ORIGINAL-URL:https://www.socialekalender.be
X-WR-CALDESC:Evenementen voor Sociale Kalender
REFRESH-INTERVAL;VALUE=DURATION:PT1H
X-Robots-Tag:noindex
X-PUBLISHED-TTL:PT1H
BEGIN:VTIMEZONE
TZID:Europe/Brussels
BEGIN:DAYLIGHT
TZOFFSETFROM:+0100
TZOFFSETTO:+0200
TZNAME:CEST
DTSTART:20210328T010000
END:DAYLIGHT
BEGIN:STANDARD
TZOFFSETFROM:+0200
TZOFFSETTO:+0100
TZNAME:CET
DTSTART:20211031T010000
END:STANDARD
END:VTIMEZONE
BEGIN:VEVENT
DTSTART;TZID=Europe/Brussels:20210819T190000
DTEND;TZID=Europe/Brussels:20210819T210000
DTSTAMP:20260422T053242
CREATED:20210711T091133Z
LAST-MODIFIED:20210711T091133Z
UID:5736-1629399600-1629406800@www.socialekalender.be
SUMMARY:Repaircafé Lanaken
DESCRIPTION:Heeft jouw fiets een kleine herstelbeurt nodig? Zitten er gaatjes in je trui? Hoogste tijd voor jouw bezoek aan het Repaircafé. Dé plek waar vrijwilligers je gratis helpen om o.a. kledij\, elektrische apparaten\, speelgoed\, computers en fietsen te herstellen. De gemeente Lanaken en de Kringwinkel Maasland stellen het nodige gereedschap en materiaal ter beschikking\, uiteraard samen met een kopje koffie. Handige vrijwilligers staan graag ter beschikking. Het Repair Café vindt steeds plaats op de derde donderdag van de maand in lokaal 1 of lokaal 7 van het Cultureel Centrum van Lanaken. Je kan er doorlopend terecht van 19:00 tot 21:00. Een mondmasker is voorlopig nog verplicht.
URL:https://www.socialekalender.be/evenement/repaircafe-lanaken/
LOCATION:CC Lanaken\, Aan de hof 10\, Lanaken\, Limburg\, 3620\, België
ATTACH;FMTTYPE=image/jpeg:https://www.socialekalender.be/wp-content/uploads/2021/07/repair-café-2.jpg
END:VEVENT
END:VCALENDAR