BEGIN:VCALENDAR
VERSION:2.0
PRODID:-//Sociale Kalender - ECPv6.2.9//NONSGML v1.0//EN
CALSCALE:GREGORIAN
METHOD:PUBLISH
X-ORIGINAL-URL:https://www.socialekalender.be
X-WR-CALDESC:Evenementen voor Sociale Kalender
REFRESH-INTERVAL;VALUE=DURATION:PT1H
X-Robots-Tag:noindex
X-PUBLISHED-TTL:PT1H
BEGIN:VTIMEZONE
TZID:Europe/Brussels
BEGIN:DAYLIGHT
TZOFFSETFROM:+0100
TZOFFSETTO:+0200
TZNAME:CEST
DTSTART:20210328T010000
END:DAYLIGHT
BEGIN:STANDARD
TZOFFSETFROM:+0200
TZOFFSETTO:+0100
TZNAME:CET
DTSTART:20211031T010000
END:STANDARD
END:VTIMEZONE
BEGIN:VEVENT
DTSTART;TZID=Europe/Brussels:20210825T133000
DTEND;TZID=Europe/Brussels:20210825T163000
DTSTAMP:20260422T053259
CREATED:20210705T144446Z
LAST-MODIFIED:20210705T144701Z
UID:5689-1629898200-1629909000@www.socialekalender.be
SUMMARY:Zomeruniversiteit over transformatie
DESCRIPTION:Het voorbije jaar kwamen maatschappelijke veranderingen in een stroomversnelling en deden nieuwe denkkaders hun intrede. De postcoronasamenleving zal er anders uitzien. Om relevant te blijven zullen organisaties en processen zich moeten heruitvinden. Deze zomeruniversiteit zoomt in op de omslag in drie sectoren van onze samenleving. Op woensdag staat het sociaal-cultureel werk centraal\, op donderdag de arbeidsorganisatie en op vrijdag de gezondheidszorg. Je kan deze vorming volgen in de nieuwe gebouwen van de UCLL of online. Inschrijven kan via www.beweging.net/limburg.
URL:https://www.socialekalender.be/evenement/zomeruniversiteit-over-transformatie/
LOCATION:UCLL\, NESSELAERSTRAAT\, DIEPENBEEK\, LIMBURG\, 3590\, België
ATTACH;FMTTYPE=image/jpeg:https://www.socialekalender.be/wp-content/uploads/2021/07/transformatie.jpg
ORGANIZER;CN="Beweging.net Limburg":MAILTO:limburg@beweging.net
END:VEVENT
END:VCALENDAR