BEGIN:VCALENDAR
VERSION:2.0
PRODID:-//Sociale Kalender - ECPv6.2.9//NONSGML v1.0//EN
CALSCALE:GREGORIAN
METHOD:PUBLISH
X-ORIGINAL-URL:https://www.socialekalender.be
X-WR-CALDESC:Evenementen voor Sociale Kalender
REFRESH-INTERVAL;VALUE=DURATION:PT1H
X-Robots-Tag:noindex
X-PUBLISHED-TTL:PT1H
BEGIN:VTIMEZONE
TZID:Europe/Brussels
BEGIN:DAYLIGHT
TZOFFSETFROM:+0100
TZOFFSETTO:+0200
TZNAME:CEST
DTSTART:20210328T010000
END:DAYLIGHT
BEGIN:STANDARD
TZOFFSETFROM:+0200
TZOFFSETTO:+0100
TZNAME:CET
DTSTART:20211031T010000
END:STANDARD
END:VTIMEZONE
BEGIN:VEVENT
DTSTART;TZID=Europe/Brussels:20210826T080000
DTEND;TZID=Europe/Brussels:20210830T000000
DTSTAMP:20260422T053259
CREATED:20210722T132330Z
LAST-MODIFIED:20210722T132330Z
UID:5808-1629964800-1630281600@www.socialekalender.be
SUMMARY:Samenhuizenreis door Frankrijk
DESCRIPTION:Tijdens deze vijfdaagse reis (tot 30/8) worden er woon- en samenlevingsprojecten bezocht in Lille\, Lyon\, Grenoble\, aan het klooster van Saint-Antoine l’ Abbaye\, aan Ecoravie (netwerk van coöperaties)\, Montreuil\,… Prijs voor niet-leden: € 595 (toeslag eenpersoonskamer: € 120). Meer info op www.samenhuizen.be.
URL:https://www.socialekalender.be/evenement/samenhuizenreis-door-frankrijk/
LOCATION:Gent Sint-Pieters
ATTACH;FMTTYPE=image/jpeg:https://www.socialekalender.be/wp-content/uploads/2021/07/babayagas.jpg
END:VEVENT
BEGIN:VEVENT
DTSTART;TZID=Europe/Brussels:20210827T100000
DTEND;TZID=Europe/Brussels:20210827T133000
DTSTAMP:20260422T053259
CREATED:20210813T123915Z
LAST-MODIFIED:20210813T123915Z
UID:5862-1630058400-1630071000@www.socialekalender.be
SUMMARY:Leren filosoferen (van 6 tot 12 jaar)
DESCRIPTION:Katrijn De Wit (auteur)\, Inge Rylant (illustrator) en Laura Bergans (vormgever en illustrator) zijn de jonge makers van de Wijze Weetjes prentenboeken. Zij gaan samen met jou filosoferen\, dat is nadenken over moeilijke vragen.
URL:https://www.socialekalender.be/evenement/leren-filosoferen-van-6-tot-12-jaar/
LOCATION:polyvalente zaal\, C-Mine
ATTACH;FMTTYPE=image/jpeg:https://www.socialekalender.be/wp-content/uploads/2021/08/filosoferen-voor-kinderen.jpg
END:VEVENT
END:VCALENDAR