BEGIN:VCALENDAR
VERSION:2.0
PRODID:-//Sociale Kalender - ECPv6.2.9//NONSGML v1.0//EN
CALSCALE:GREGORIAN
METHOD:PUBLISH
X-WR-CALNAME:Sociale Kalender
X-ORIGINAL-URL:https://www.socialekalender.be
X-WR-CALDESC:Evenementen voor Sociale Kalender
REFRESH-INTERVAL;VALUE=DURATION:PT1H
X-Robots-Tag:noindex
X-PUBLISHED-TTL:PT1H
BEGIN:VTIMEZONE
TZID:Europe/Brussels
BEGIN:DAYLIGHT
TZOFFSETFROM:+0100
TZOFFSETTO:+0200
TZNAME:CEST
DTSTART:20210328T010000
END:DAYLIGHT
BEGIN:STANDARD
TZOFFSETFROM:+0200
TZOFFSETTO:+0100
TZNAME:CET
DTSTART:20211031T010000
END:STANDARD
END:VTIMEZONE
BEGIN:VEVENT
DTSTART;TZID=Europe/Brussels:20210904T090000
DTEND;TZID=Europe/Brussels:20210904T120000
DTSTAMP:20260422T035603
CREATED:20210327T102333Z
LAST-MODIFIED:20210327T102333Z
UID:5354-1630746000-1630756800@www.socialekalender.be
SUMMARY:Start cursus natuurgids in Hasselt
DESCRIPTION:Limburg heeft al een traditie van meer dan 50 jaar met het inrichten van de cursus natuurgids. Die bestaat uit 30 activiteiten\, waarvan ongeveer de helft natuurexcursies zijn. De activiteiten worden gespreid over een jaar zodat je de natuur in ieder seizoen leert kennen; de laatste activiteit is gepland voor 25 juni. Zowel de theorie- als de praktijklessen vinden plaats op zaterdagvoormiddagen\, maar er zijn wel twee daguitstappen. Tijdens de schoolvakanties zijn er meestal geen lessen of excursies. Na je eindopdracht ontvang je het getuigschrift van Natuurgids. Met dit getuigschrift kan je later een gidsenbadge van Natuurpunt CVN behalen\, na het aantonen van praktijkervaring en gespecialiseerde didactische of inhoudelijke bijscholing. Meer informatie hierover ontvang je tijdens de cursus. De cursus Natuurgids is intensief en vereist een zeker niveau van engagement\, maar je wordt beloond met een verrijkende nieuwe hobby en kennis voor het leven. Leden van Natuurpunt krijgen korting en betalen slechts € 270 in plaats van € 315. Ben je 25 jaar of jonger\, dan krijg je nog extra korting. Meer informatie via de agenda van www.natuurpunt.be.
URL:https://www.socialekalender.be/evenement/start-cursus-natuurgids-in-hasselt/
LOCATION:Bezoekerscentrum Kiewit\, Natuurpunt\, Putvennestraat 112\, Hasselt-Kiewit\, 3500
ATTACH;FMTTYPE=image/jpeg:https://www.socialekalender.be/wp-content/uploads/2021/03/natuur-ophovenderheide.jpg
END:VEVENT
END:VCALENDAR