BEGIN:VCALENDAR
VERSION:2.0
PRODID:-//Sociale Kalender - ECPv6.2.9//NONSGML v1.0//EN
CALSCALE:GREGORIAN
METHOD:PUBLISH
X-ORIGINAL-URL:https://www.socialekalender.be
X-WR-CALDESC:Evenementen voor Sociale Kalender
REFRESH-INTERVAL;VALUE=DURATION:PT1H
X-Robots-Tag:noindex
X-PUBLISHED-TTL:PT1H
BEGIN:VTIMEZONE
TZID:Europe/Brussels
BEGIN:DAYLIGHT
TZOFFSETFROM:+0100
TZOFFSETTO:+0200
TZNAME:CEST
DTSTART:20210328T010000
END:DAYLIGHT
BEGIN:STANDARD
TZOFFSETFROM:+0200
TZOFFSETTO:+0100
TZNAME:CET
DTSTART:20211031T010000
END:STANDARD
END:VTIMEZONE
BEGIN:VEVENT
DTSTART;TZID=Europe/Brussels:20210907T193000
DTEND;TZID=Europe/Brussels:20210907T220000
DTSTAMP:20260422T035600
CREATED:20210813T123355Z
LAST-MODIFIED:20210813T123355Z
UID:5856-1631043000-1631052000@www.socialekalender.be
SUMMARY:Jonathan Holslag over muren tussen landen
DESCRIPTION:Op uitnodiging van vzw Abdij\, Stad en Regio komt Prof. Jonathan Holslag van de VUB een lezing geven over zijn gloednieuw boek “Van muur tot muur: de nieuwe wereldorde”. De lezing is een samenwerking met de Orde van den Prince. Omwille van Corona-maatregelen is vooraf inschrijven verplicht\, via ovdp.haspengouw@telenet.be en overschrijven van 8\,00 EUR pp. op rekening nrBE54 7330 0893 0797 van: Orde van den Prince\, afdeling Haspengouw. Na afloop worden U nog twee drankjes aangeboden en kan U het boek aankopen (als het al verkrijgbaar is) en laten signeren door de auteur. Aanvang 19u30. \nDe laatste jaren zien we dat er overal nieuwe muren tussen de landen worden opgetrokken en dat onze democratie in het defensief zit. Hoe komt het dat het Westen zoveel terrein heeft verloren? Hoe kunnen we komende generaties wapenen tegen de onzekerheid en onze samenleving veerkrachtig maken? Deze vragen en veel meer komen aan bod in een toegankelijke lezing.
URL:https://www.socialekalender.be/evenement/jonathan-holslag-over-muren-tussen-landen/
LOCATION:Academiezaal\, Plankstraat 18\, Sint-Truiden\, 3800\, België
ATTACH;FMTTYPE=image/png:https://www.socialekalender.be/wp-content/uploads/2021/08/Jonathan-Holslag.png
END:VEVENT
END:VCALENDAR