BEGIN:VCALENDAR
VERSION:2.0
PRODID:-//Sociale Kalender - ECPv6.2.9//NONSGML v1.0//EN
CALSCALE:GREGORIAN
METHOD:PUBLISH
X-ORIGINAL-URL:https://www.socialekalender.be
X-WR-CALDESC:Evenementen voor Sociale Kalender
REFRESH-INTERVAL;VALUE=DURATION:PT1H
X-Robots-Tag:noindex
X-PUBLISHED-TTL:PT1H
BEGIN:VTIMEZONE
TZID:Europe/Brussels
BEGIN:DAYLIGHT
TZOFFSETFROM:+0100
TZOFFSETTO:+0200
TZNAME:CEST
DTSTART:20210328T010000
END:DAYLIGHT
BEGIN:STANDARD
TZOFFSETFROM:+0200
TZOFFSETTO:+0100
TZNAME:CET
DTSTART:20211031T010000
END:STANDARD
END:VTIMEZONE
BEGIN:VEVENT
DTSTART;TZID=Europe/Brussels:20210911T100000
DTEND;TZID=Europe/Brussels:20210911T170000
DTSTAMP:20260422T035559
CREATED:20210711T084953Z
LAST-MODIFIED:20210711T084953Z
UID:5716-1631354400-1631379600@www.socialekalender.be
SUMMARY:Tuin- en plantendagen kasteel Hex
DESCRIPTION:Kasteel Hex is een ontmoetingsplaats voor liefhebbers van tuin\, horticultuur en natuur. De jaarlijks terugkerende tuindagen/plantenbeurs zijn voor velen een gelegenheid om in een ontspannen sfeer – en in het uitzonderlijk kader van deze historische tuinen – vrienden en collega’s te ontmoeten\, bijzondere planten te ontdekken en bij kwekers en specialisten om advies te gaan. Het kasteel is beschermd en de tuin is erkend als waardevol gebied. De moestuin van 2 ha wordt op de oude manier bewerkt. Zelfde openingsuren op zondag.
URL:https://www.socialekalender.be/evenement/tuin-en-plantendagen-kasteel-hex/
LOCATION:Kasteel Hex\, Kekslaan 57\, Heers\, Limburg\, 3870\, België
ATTACH;FMTTYPE=image/png:https://www.socialekalender.be/wp-content/uploads/2021/07/kasteel-Hex.png
END:VEVENT
BEGIN:VEVENT
DTSTART;TZID=Europe/Brussels:20210911T190000
DTEND;TZID=Europe/Brussels:20210911T190000
DTSTAMP:20260422T035559
CREATED:20210824T075436Z
LAST-MODIFIED:20210824T075436Z
UID:5878-1631386800-1631386800@www.socialekalender.be
SUMMARY:Opening kunstexpo van Perspectief vzw
DESCRIPTION:Onder de titel “Een nieuw begin” tonen vier kunstenaars hun werken in het oude stadhuis van Hasselt: Rita Vanelderen\, Sandra Vandepoel\, Armand Wils en Martin Oluwadiran (foto). Hun disciplines zijn: schilderen\, keramiek\, assemblage\, collage en fotografie. Terranga brengt o.l.v. Bart Braeken intermezzi met wereldmuziek. De tentoonstelling loopt tot 26 september en is alle dagen\, behalve maandag\, open van 13u tot 17u. Denk aan de geldende coronamaatregelen!
URL:https://www.socialekalender.be/evenement/opening-kunstexpo-van-perspectief-vzw/
LOCATION:oud stadhuis\, Groenplein\, Hasselt\, 3500
ATTACH;FMTTYPE=image/jpeg:https://www.socialekalender.be/wp-content/uploads/2021/08/RB_HAS_190416_Martin_Oluwadiran.jpg
ORGANIZER;CN="Perspectief vzw":MAILTO:joschreurs54@gmail.com
END:VEVENT
END:VCALENDAR