BEGIN:VCALENDAR
VERSION:2.0
PRODID:-//Sociale Kalender - ECPv6.2.9//NONSGML v1.0//EN
CALSCALE:GREGORIAN
METHOD:PUBLISH
X-ORIGINAL-URL:https://www.socialekalender.be
X-WR-CALDESC:Evenementen voor Sociale Kalender
REFRESH-INTERVAL;VALUE=DURATION:PT1H
X-Robots-Tag:noindex
X-PUBLISHED-TTL:PT1H
BEGIN:VTIMEZONE
TZID:Europe/Brussels
BEGIN:DAYLIGHT
TZOFFSETFROM:+0100
TZOFFSETTO:+0200
TZNAME:CEST
DTSTART:20210328T010000
END:DAYLIGHT
BEGIN:STANDARD
TZOFFSETFROM:+0200
TZOFFSETTO:+0100
TZNAME:CET
DTSTART:20211031T010000
END:STANDARD
END:VTIMEZONE
BEGIN:VEVENT
DTSTART;TZID=Europe/Brussels:20210912T130000
DTEND;TZID=Europe/Brussels:20210912T153000
DTSTAMP:20260422T035600
CREATED:20210705T151028Z
LAST-MODIFIED:20210705T151028Z
UID:5704-1631451600-1631460600@www.socialekalender.be
SUMMARY:Historische wandeling door Hageven
DESCRIPTION:Willy Pardon is een kenner van de historische achtergrond van het Hageven. Hij neemt ons mee op een wandeling langs de belangrijkste geschiedkundige punten.
URL:https://www.socialekalender.be/evenement/historische-wandeling-door-hageven/
LOCATION:bezoekerscentrum Hageven\, Tussenstraat 10\, Neerpelt\, Limburg\, 3910\, België
ATTACH;FMTTYPE=image/jpeg:https://www.socialekalender.be/wp-content/uploads/2021/07/HAGEVEN.jpg
END:VEVENT
END:VCALENDAR