BEGIN:VCALENDAR
VERSION:2.0
PRODID:-//Sociale Kalender - ECPv6.2.9//NONSGML v1.0//EN
CALSCALE:GREGORIAN
METHOD:PUBLISH
X-ORIGINAL-URL:https://www.socialekalender.be
X-WR-CALDESC:Evenementen voor Sociale Kalender
REFRESH-INTERVAL;VALUE=DURATION:PT1H
X-Robots-Tag:noindex
X-PUBLISHED-TTL:PT1H
BEGIN:VTIMEZONE
TZID:Europe/Brussels
BEGIN:DAYLIGHT
TZOFFSETFROM:+0100
TZOFFSETTO:+0200
TZNAME:CEST
DTSTART:20210328T010000
END:DAYLIGHT
BEGIN:STANDARD
TZOFFSETFROM:+0200
TZOFFSETTO:+0100
TZNAME:CET
DTSTART:20211031T010000
END:STANDARD
END:VTIMEZONE
BEGIN:VEVENT
DTSTART;TZID=Europe/Brussels:20210928T170000
DTEND;TZID=Europe/Brussels:20210928T210000
DTSTAMP:20260422T022422
CREATED:20210404T095006Z
LAST-MODIFIED:20210711T092629Z
UID:5376-1632848400-1632862800@www.socialekalender.be
SUMMARY:20-jarig jubileum Veldeke Bels(j) Limburg
DESCRIPTION:20 jaar geleden werd in Alden Biesen een nieuwe vereniging boven de doopvont gehouden om de Limburgse dialecten te beschermen en te promoten: Veldeke Bels(j) Limburg. Ondertussen heeft ze zes lokale en regionale afdelingen opgericht en is ze de spil in een heel netwerk van werkingen rond cultuur en erfgoed in de streektaal. \nNa de viering van het 10-jarig bestaan (oud mijngebouw Waterschei) en het 15-jarig bestaan (oud mijngebouw Houthalen) wordt nu ook weer gekozen voor een feest op een mijnsite: de balzaal in het voormalig mijngebouw van Zolder. Het programma zal bestaan uit een bonte afwisseling van bijdragen in verschillende dialecten: verhalen\, poëzie\, muziek\, … Gouverneur Jos Lantmeeters\, die de titel aanvaardde van Beschermheer van de Limburgse streektaal\, zal na zijn inauguratierede ceremonieel gehuldigd worden. Een hapje en een drankje worden natuurlijk ook voorzien.
URL:https://www.socialekalender.be/evenement/20-jarig-jubileum-veldeke-belsj-limburg/
LOCATION:mijnsite Zolder (balzaal)\, Marktplein 3\, Zolder\, Limburg\, 3550\, België
ATTACH;FMTTYPE=image/jpeg:https://www.socialekalender.be/wp-content/uploads/2021/04/mijn-zolder-scaled.jpeg
END:VEVENT
END:VCALENDAR