BEGIN:VCALENDAR
VERSION:2.0
PRODID:-//Sociale Kalender - ECPv6.2.9//NONSGML v1.0//EN
CALSCALE:GREGORIAN
METHOD:PUBLISH
X-WR-CALNAME:Sociale Kalender
X-ORIGINAL-URL:https://www.socialekalender.be
X-WR-CALDESC:Evenementen voor Sociale Kalender
REFRESH-INTERVAL;VALUE=DURATION:PT1H
X-Robots-Tag:noindex
X-PUBLISHED-TTL:PT1H
BEGIN:VTIMEZONE
TZID:Europe/Brussels
BEGIN:DAYLIGHT
TZOFFSETFROM:+0100
TZOFFSETTO:+0200
TZNAME:CEST
DTSTART:20210328T010000
END:DAYLIGHT
BEGIN:STANDARD
TZOFFSETFROM:+0200
TZOFFSETTO:+0100
TZNAME:CET
DTSTART:20211031T010000
END:STANDARD
END:VTIMEZONE
BEGIN:VEVENT
DTSTART;TZID=Europe/Brussels:20211004T133000
DTEND;TZID=Europe/Brussels:20211004T151500
DTSTAMP:20260421T214732
CREATED:20210915T151537Z
LAST-MODIFIED:20210915T151537Z
UID:6000-1633354200-1633360500@www.socialekalender.be
SUMMARY:Webinar over de Woonzaak
DESCRIPTION:De Woonzaak is een brede burgerbeweging met vele verenigingen die een vuist maakt tegen de wooncrisis\, en hiervoor de juridische weg kiest tegen de Vlaamse overheid (naar analogie met de Klimaatzaak). Onderzoekers van de UGent\, UA en Université Saint-Louis voerden een studie uit naar de kansen\, de mogelijkheden en de juridische haalbaarheid van zo een procedure. Op maandag 4 oktober wordt het onderzoek gepresenteerd. Mark Jordan (University of Southampton) vertelt ook over zijn ervaringen met een Europese klachtenprocedure. We nodigen je graag uit voor dit gratis webinar. Schrijf je hier in.
URL:https://www.socialekalender.be/evenement/webinar-over-de-woonzaak/
LOCATION:ONLINE
ATTACH;FMTTYPE=image/jpeg:https://www.socialekalender.be/wp-content/uploads/2021/09/wooncrisis-1-scaled.jpg
END:VEVENT
END:VCALENDAR