BEGIN:VCALENDAR
VERSION:2.0
PRODID:-//Sociale Kalender - ECPv6.2.9//NONSGML v1.0//EN
CALSCALE:GREGORIAN
METHOD:PUBLISH
X-ORIGINAL-URL:https://www.socialekalender.be
X-WR-CALDESC:Evenementen voor Sociale Kalender
REFRESH-INTERVAL;VALUE=DURATION:PT1H
X-Robots-Tag:noindex
X-PUBLISHED-TTL:PT1H
BEGIN:VTIMEZONE
TZID:Europe/Brussels
BEGIN:DAYLIGHT
TZOFFSETFROM:+0100
TZOFFSETTO:+0200
TZNAME:CEST
DTSTART:20210328T010000
END:DAYLIGHT
BEGIN:STANDARD
TZOFFSETFROM:+0200
TZOFFSETTO:+0100
TZNAME:CET
DTSTART:20211031T010000
END:STANDARD
END:VTIMEZONE
BEGIN:VEVENT
DTSTART;TZID=Europe/Brussels:20211007T193000
DTEND;TZID=Europe/Brussels:20211007T213000
DTSTAMP:20260421T232419
CREATED:20210915T151037Z
LAST-MODIFIED:20210915T151037Z
UID:5993-1633635000-1633642200@www.socialekalender.be
SUMMARY:Eenzaamheid (g)een taboe?
DESCRIPTION:Tijdens deze avond gaan deelnemers en deskundigen in gesprek door middel van stellingen over eenzaamheid. Leven we in de eeuw van eenzaamheid? Zijn sociale media een hulp of een vloek? Kan iedereen vereenzamen? Wat zijn de beste manieren om mensen te verbinden? We horen graag hierover jouw gedacht! Onze deskundigen voor deze avond zijn Erik Herrebosch (LUS vzw)\, Ine Dereycke (Bond zonder Naam)\, Chris Mestdagh (Krachtnet) en Pascy Monette (schepen tegen eenzaamheid St-Truiden). Karolien Nouwen zorgt voor de moderatie. Er zijn kortingen voor mensen met een beperkt budget\, met een verhoogde tegemoetkoming en met een UITPAS-kansentarief.
URL:https://www.socialekalender.be/evenement/eenzaamheid-geen-taboe/
LOCATION:OCMW\, Clement Cartuyvelsstraat 1é\, St-Truiden\, Limburg\, 3800\, België
ATTACH;FMTTYPE=image/jpeg:https://www.socialekalender.be/wp-content/uploads/2021/09/eenzaamheid.jpg
END:VEVENT
BEGIN:VEVENT
DTSTART;TZID=Europe/Brussels:20211007T193000
DTEND;TZID=Europe/Brussels:20211007T220000
DTSTAMP:20260421T232419
CREATED:20210722T131041Z
LAST-MODIFIED:20210722T131041Z
UID:5796-1633635000-1633644000@www.socialekalender.be
SUMMARY:Hoe kwetsbaar jij en ik
DESCRIPTION:Meestal moeten we een hele weg afleggen om te kunnen aanvaarden dat we kwetsbaar zijn. In die omstandigheden hebben we de ander nodig. Om samen ruimte te maken voor onze ervaringen\, onze vragen\, onze onzekerheid. Om te luisteren naar ons verhaal. De auteur Kris Gelaude verdiepte zich vanuit haar eigen ervaring in het proces van ziekte en lijden\, van afscheid nemen en leven met pijn. Haar teksten vormen de leidraad doorheen deze avond.
URL:https://www.socialekalender.be/evenement/hoe-kwetsbaar-jij-en-ik/
LOCATION:PIC\, Tulpinstraat 75\, Hasselt\, Limburg\, 3500\, België
ATTACH;FMTTYPE=image/jpeg:https://www.socialekalender.be/wp-content/uploads/2021/07/Kris-Gelaude.jpg
END:VEVENT
END:VCALENDAR