BEGIN:VCALENDAR
VERSION:2.0
PRODID:-//Sociale Kalender - ECPv6.2.9//NONSGML v1.0//EN
CALSCALE:GREGORIAN
METHOD:PUBLISH
X-WR-CALNAME:Sociale Kalender
X-ORIGINAL-URL:https://www.socialekalender.be
X-WR-CALDESC:Evenementen voor Sociale Kalender
REFRESH-INTERVAL;VALUE=DURATION:PT1H
X-Robots-Tag:noindex
X-PUBLISHED-TTL:PT1H
BEGIN:VTIMEZONE
TZID:Europe/Brussels
BEGIN:DAYLIGHT
TZOFFSETFROM:+0100
TZOFFSETTO:+0200
TZNAME:CEST
DTSTART:20210328T010000
END:DAYLIGHT
BEGIN:STANDARD
TZOFFSETFROM:+0200
TZOFFSETTO:+0100
TZNAME:CET
DTSTART:20211031T010000
END:STANDARD
END:VTIMEZONE
BEGIN:VEVENT
DTSTART;TZID=Europe/Brussels:20211008T193000
DTEND;TZID=Europe/Brussels:20211008T193000
DTSTAMP:20260421T232422
CREATED:20210711T093507Z
LAST-MODIFIED:20210804T124429Z
UID:5762-1633721400-1633721400@www.socialekalender.be
SUMMARY:Vierde Alkense dialectavond (GEANNULEERD)
DESCRIPTION:Onder de noemer “zoe joent da be os gezeid” stelt Jos Boiten weer een heel programma voor vol podiumkunsten in de verschillende dialecten van Zuid-Limburg.
URL:https://www.socialekalender.be/evenement/vierde-alkense-dialectavond/
LOCATION:GC  d’Erckenteel\, Parkstraat\, Alken\, Limburg\, 3570\, België
ATTACH;FMTTYPE=image/jpeg:https://www.socialekalender.be/wp-content/uploads/2021/07/dialectavond.jpg
END:VEVENT
END:VCALENDAR